Workbook
Name 令和4年度補正デジタル田園都市国家構想交付金_デジタル実装タイプTYPE1_01000: '【発出時非表示】プルダウンリスト（交付対象事業の名称）'!$B$2:$C$2
Name 令和4年度補正デジタル田園都市国家構想交付金_デジタル実装タイプTYPE1_01203: '【発出時非表示】プルダウンリスト（交付対象事業の名称）'!$B$3:$D$3
Name 令和4年度補正デジタル田園都市国家構想交付金_デジタル実装タイプTYPE1_01204: '【発出時非表示】プルダウンリスト（交付対象事業の名称）'!$B$4:$B$4
Name 令和4年度補正デジタル田園都市国家構想交付金_デジタル実装タイプTYPE1_01206: '【発出時非表示】プルダウンリスト（交付対象事業の名称）'!$B$5:$C$5
Name 令和4年度補正デジタル田園都市国家構想交付金_デジタル実装タイプTYPE1_01208: '【発出時非表示】プルダウンリスト（交付対象事業の名称）'!$B$6:$B$6
Name 令和4年度補正デジタル田園都市国家構想交付金_デジタル実装タイプTYPE1_01210: '【発出時非表示】プルダウンリスト（交付対象事業の名称）'!$B$7:$B$7
Name 令和4年度補正デジタル田園都市国家構想交付金_デジタル実装タイプTYPE1_01211: '【発出時非表示】プルダウンリスト（交付対象事業の名称）'!$B$8:$D$8
Name 令和4年度補正デジタル田園都市国家構想交付金_デジタル実装タイプTYPE1_01215: '【発出時非表示】プルダウンリスト（交付対象事業の名称）'!$B$9:$C$9
Name 令和4年度補正デジタル田園都市国家構想交付金_デジタル実装タイプTYPE1_01219: '【発出時非表示】プルダウンリスト（交付対象事業の名称）'!$B$10:$B$10
Name 令和4年度補正デジタル田園都市国家構想交付金_デジタル実装タイプTYPE1_01220: '【発出時非表示】プルダウンリスト（交付対象事業の名称）'!$B$11:$B$11
Name 令和4年度補正デジタル田園都市国家構想交付金_デジタル実装タイプTYPE1_01221: '【発出時非表示】プルダウンリスト（交付対象事業の名称）'!$B$12:$E$12
Name 令和4年度補正デジタル田園都市国家構想交付金_デジタル実装タイプTYPE1_01224: '【発出時非表示】プルダウンリスト（交付対象事業の名称）'!$B$13:$E$13
Name 令和4年度補正デジタル田園都市国家構想交付金_デジタル実装タイプTYPE1_01225: '【発出時非表示】プルダウンリスト（交付対象事業の名称）'!$B$14:$B$14
Name 令和4年度補正デジタル田園都市国家構想交付金_デジタル実装タイプTYPE1_01226: '【発出時非表示】プルダウンリスト（交付対象事業の名称）'!$B$15:$C$15
Name 令和4年度補正デジタル田園都市国家構想交付金_デジタル実装タイプTYPE1_01228: '【発出時非表示】プルダウンリスト（交付対象事業の名称）'!$B$16:$C$16
Name 令和4年度補正デジタル田園都市国家構想交付金_デジタル実装タイプTYPE1_01229: '【発出時非表示】プルダウンリスト（交付対象事業の名称）'!$B$17:$B$17
Name 令和4年度補正デジタル田園都市国家構想交付金_デジタル実装タイプTYPE1_01230: '【発出時非表示】プルダウンリスト（交付対象事業の名称）'!$B$18:$B$18
Name 令和4年度補正デジタル田園都市国家構想交付金_デジタル実装タイプTYPE1_01231: '【発出時非表示】プルダウンリスト（交付対象事業の名称）'!$B$19:$D$19
Name 令和4年度補正デジタル田園都市国家構想交付金_デジタル実装タイプTYPE1_01233: '【発出時非表示】プルダウンリスト（交付対象事業の名称）'!$B$20:$B$20
Name 令和4年度補正デジタル田園都市国家構想交付金_デジタル実装タイプTYPE1_01234: '【発出時非表示】プルダウンリスト（交付対象事業の名称）'!$B$21:$B$21
Name 令和4年度補正デジタル田園都市国家構想交付金_デジタル実装タイプTYPE1_01235: '【発出時非表示】プルダウンリスト（交付対象事業の名称）'!$B$22:$C$22
Name 令和4年度補正デジタル田園都市国家構想交付金_デジタル実装タイプTYPE1_01236: '【発出時非表示】プルダウンリスト（交付対象事業の名称）'!$B$23:$B$23
Name 令和4年度補正デジタル田園都市国家構想交付金_デジタル実装タイプTYPE1_01303: '【発出時非表示】プルダウンリスト（交付対象事業の名称）'!$B$24:$E$24
Name 令和4年度補正デジタル田園都市国家構想交付金_デジタル実装タイプTYPE1_01337: '【発出時非表示】プルダウンリスト（交付対象事業の名称）'!$B$25:$B$25
Name 令和4年度補正デジタル田園都市国家構想交付金_デジタル実装タイプTYPE1_01343: '【発出時非表示】プルダウンリスト（交付対象事業の名称）'!$B$26:$B$26
Name 令和4年度補正デジタル田園都市国家構想交付金_デジタル実装タイプTYPE1_01345: '【発出時非表示】プルダウンリスト（交付対象事業の名称）'!$B$27:$C$27
Name 令和4年度補正デジタル田園都市国家構想交付金_デジタル実装タイプTYPE1_01393: '【発出時非表示】プルダウンリスト（交付対象事業の名称）'!$B$28:$C$28
Name 令和4年度補正デジタル田園都市国家構想交付金_デジタル実装タイプTYPE1_01397: '【発出時非表示】プルダウンリスト（交付対象事業の名称）'!$B$29:$D$29
Name 令和4年度補正デジタル田園都市国家構想交付金_デジタル実装タイプTYPE1_01398: '【発出時非表示】プルダウンリスト（交付対象事業の名称）'!$B$30:$B$30
Name 令和4年度補正デジタル田園都市国家構想交付金_デジタル実装タイプTYPE1_01400: '【発出時非表示】プルダウンリスト（交付対象事業の名称）'!$B$31:$B$31
Name 令和4年度補正デジタル田園都市国家構想交付金_デジタル実装タイプTYPE1_01401: '【発出時非表示】プルダウンリスト（交付対象事業の名称）'!$B$32:$B$32
Name 令和4年度補正デジタル田園都市国家構想交付金_デジタル実装タイプTYPE1_01402: '【発出時非表示】プルダウンリスト（交付対象事業の名称）'!$B$33:$E$33
Name 令和4年度補正デジタル田園都市国家構想交付金_デジタル実装タイプTYPE1_01408: '【発出時非表示】プルダウンリスト（交付対象事業の名称）'!$B$34:$C$34
Name 令和4年度補正デジタル田園都市国家構想交付金_デジタル実装タイプTYPE1_01423: '【発出時非表示】プルダウンリスト（交付対象事業の名称）'!$B$35:$B$35
Name 令和4年度補正デジタル田園都市国家構想交付金_デジタル実装タイプTYPE1_01425: '【発出時非表示】プルダウンリスト（交付対象事業の名称）'!$B$36:$B$36
Name 令和4年度補正デジタル田園都市国家構想交付金_デジタル実装タイプTYPE1_01429: '【発出時非表示】プルダウンリスト（交付対象事業の名称）'!$B$37:$B$37
Name 令和4年度補正デジタル田園都市国家構想交付金_デジタル実装タイプTYPE1_01430: '【発出時非表示】プルダウンリスト（交付対象事業の名称）'!$B$38:$B$38
Name 令和4年度補正デジタル田園都市国家構想交付金_デジタル実装タイプTYPE1_01438: '【発出時非表示】プルダウンリスト（交付対象事業の名称）'!$B$39:$B$39
Name 令和4年度補正デジタル田園都市国家構想交付金_デジタル実装タイプTYPE1_01453: '【発出時非表示】プルダウンリスト（交付対象事業の名称）'!$B$40:$D$40
Name 令和4年度補正デジタル田園都市国家構想交付金_デジタル実装タイプTYPE1_01461: '【発出時非表示】プルダウンリスト（交付対象事業の名称）'!$B$41:$D$41
Name 令和4年度補正デジタル田園都市国家構想交付金_デジタル実装タイプTYPE1_01483: '【発出時非表示】プルダウンリスト（交付対象事業の名称）'!$B$42:$B$42
Name 令和4年度補正デジタル田園都市国家構想交付金_デジタル実装タイプTYPE1_01487: '【発出時非表示】プルダウンリスト（交付対象事業の名称）'!$B$43:$B$43
Name 令和4年度補正デジタル田園都市国家構想交付金_デジタル実装タイプTYPE1_01545: '【発出時非表示】プルダウンリスト（交付対象事業の名称）'!$B$44:$D$44
Name 令和4年度補正デジタル田園都市国家構想交付金_デジタル実装タイプTYPE1_01581: '【発出時非表示】プルダウンリスト（交付対象事業の名称）'!$B$45:$B$45
Name 令和4年度補正デジタル田園都市国家構想交付金_デジタル実装タイプTYPE1_01585: '【発出時非表示】プルダウンリスト（交付対象事業の名称）'!$B$46:$B$46
Name 令和4年度補正デジタル田園都市国家構想交付金_デジタル実装タイプTYPE1_01607: '【発出時非表示】プルダウンリスト（交付対象事業の名称）'!$B$47:$B$47
Name 令和4年度補正デジタル田園都市国家構想交付金_デジタル実装タイプTYPE1_01610: '【発出時非表示】プルダウンリスト（交付対象事業の名称）'!$B$48:$B$48
Name 令和4年度補正デジタル田園都市国家構想交付金_デジタル実装タイプTYPE1_01631: '【発出時非表示】プルダウンリスト（交付対象事業の名称）'!$B$49:$E$49
Name 令和4年度補正デジタル田園都市国家構想交付金_デジタル実装タイプTYPE1_01633: '【発出時非表示】プルダウンリスト（交付対象事業の名称）'!$B$50:$B$50
Name 令和4年度補正デジタル田園都市国家構想交付金_デジタル実装タイプTYPE1_01635: '【発出時非表示】プルダウンリスト（交付対象事業の名称）'!$B$51:$B$51
Name 令和4年度補正デジタル田園都市国家構想交付金_デジタル実装タイプTYPE1_01637: '【発出時非表示】プルダウンリスト（交付対象事業の名称）'!$B$52:$D$52
Name 令和4年度補正デジタル田園都市国家構想交付金_デジタル実装タイプTYPE1_01638: '【発出時非表示】プルダウンリスト（交付対象事業の名称）'!$B$53:$B$53
Name 令和4年度補正デジタル田園都市国家構想交付金_デジタル実装タイプTYPE1_01639: '【発出時非表示】プルダウンリスト（交付対象事業の名称）'!$B$54:$B$54
Name 令和4年度補正デジタル田園都市国家構想交付金_デジタル実装タイプTYPE1_01644: '【発出時非表示】プルダウンリスト（交付対象事業の名称）'!$B$55:$D$55
Name 令和4年度補正デジタル田園都市国家構想交付金_デジタル実装タイプTYPE1_01692: '【発出時非表示】プルダウンリスト（交付対象事業の名称）'!$B$56:$B$56
Name 令和4年度補正デジタル田園都市国家構想交付金_デジタル実装タイプTYPE1_01694: '【発出時非表示】プルダウンリスト（交付対象事業の名称）'!$B$57:$B$57
Name 令和4年度補正デジタル田園都市国家構想交付金_デジタル実装タイプTYPE1_02000: '【発出時非表示】プルダウンリスト（交付対象事業の名称）'!$B$58:$C$58
Name 令和4年度補正デジタル田園都市国家構想交付金_デジタル実装タイプTYPE1_02201: '【発出時非表示】プルダウンリスト（交付対象事業の名称）'!$B$59:$C$59
Name 令和4年度補正デジタル田園都市国家構想交付金_デジタル実装タイプTYPE1_02202: '【発出時非表示】プルダウンリスト（交付対象事業の名称）'!$B$60:$D$60
Name 令和4年度補正デジタル田園都市国家構想交付金_デジタル実装タイプTYPE1_02203: '【発出時非表示】プルダウンリスト（交付対象事業の名称）'!$B$61:$C$61

Sheet 【初めにお読みください】目次
C2: ご案内 | N2: ※発出時、列非表示
C4: 「0.基礎情報」のシートで「交付金予算年度」をご選択いただくと、ご入力いただく必要のある設問が、下記の目次に表示されます。
C5: 本シート以降の各シート内で記載されている説明文（セル入力時コメント含む）を確認の上、各設問についてご回答ください。
C6: なお、一部の設問には字数制限がございますので、セル選択時に表示されるメッセージに従い、規定字数以上でのご回答をお願いいたします。
C7: 「回答不要」となっている設問を除き、全ての設問への回答が終わりましたら、提出前チェック項目を確認し、全てにチェックを付けたうえで提出をお願いいたします。
C9: 凡例 | D9: ご対応事項
C10: 回答済み | D10: 適切にご回答いただいているため、対応不要です。
C11: 字数不足 | D11: 字数が不足しているため、追記をお願いいたします。
C12: 入力不備 | D12: 「いずれも該当しない」とそれ以外の選択肢が同時に選択されるなど、回答内容に不備があるため、ご確認をお願いいたします。
C13: 未回答 | D13: 回答漏れがあるため、回答をお願いいたします。
C14: 回答不要 | D14: 貴団体では、回答不要な設問となりますので、ご対応は不要です。
C15: ― | D15: 「0.基礎情報」のシートで「交付金予算年度」と「各KPIの名称」をご入力いただくと、上記のいずれかのステータスとなります。 ※設定していないKPI（例：KPIの設定個数が4個であればKPI⑤以降）については、「―」のステータスのままで問題ございません。
C18: 目次 | H18: 提出前チェック項目
C20: シート | D20: 項目 | E20: 設問 | F20: ステータス | I20: 目次に掲載されている設問について、全てのステータスが「回答済み」、「回答不要」、「―」のいずれかとなっている。
C21: 0. 基礎情報 | D21: （基礎情報） | F21: =IF(OR('0.基礎情報'!$P$6="",'0.基礎情報'!$H$8="",'0.基礎情報'!$H$9="",'0.基礎情報'!$T$9="",'0.基礎情報'!$AF$9="",'0.基礎情報'!$H$10="",'0.基礎情報'!$T$10="",'0.基礎情報'!$AS$10="",'0.基礎情報'!$H$12="",'0.基礎情報'!$H$13=""),"未回答","回答済み") -> 回答済み
D22: 1. 推進体制 | E22: 予定 | F22: =IF(OR('0.基礎情報'!$C$21="",'0.基礎情報'!$K$21="",'0.基礎情報'!$R$21=""),"未回答",IF(AND(OR('0.基礎情報'!$C$22="",'0.基礎情報'!$K$22="",'0.基礎情報'!$R$22=""),NOT(AND('0.基礎情報'!$C$22="",'0.基礎情報'!$K$22="",'0.基礎情報'!$R$22=""))),"未回答",IF(AND(OR('0.基礎情報'!$C$23="",'0.基礎情報'!$K$23="",'0.基礎情報'!$R$23=""),NOT(AND('0.基礎情報'!$C$23="",'0.基礎情報'!$K$23="",'0.基礎情報'!$R$23=""))),"未回答",IF(AND(OR('0.基礎情報'!$C$24="",'0.基礎情報'!$K$24="",'0.基礎情報'!$R$24=""),NOT(AND('0.基礎情報'!$C$24="",'0.基礎情報'!$K$24="",'0.基礎情報'!$R$24=""))),"未回答",IF(AND(OR('0.基礎情報'!$C$25="",'0.基礎情報'!$K$25="",'0.基礎情報'!$R$25=""),NOT(AND('0.基礎情報'!$C$25="",'0.基礎情報'!$K$25="",'0.基礎情報'!$R$25=""))),"未回答",IF(AND(OR('0.基礎情報'!$C$26="",'0.基礎情報'!$K$26="",'0.基礎情報'!$R$26=""),NOT(AND('0.基礎情報'!$C$26="",'0.基礎情報'!$K$26="",'0.基礎情報'!$R$26=""))),"未回答",IF(AND(OR('0.基礎情報'!$C$27="",'0.基礎情報'!$K$27="",'0.基礎情報'!$R$27=""),NOT(AND('0.基礎情報'!$C$27="",'0.基礎情報'!$K$27="",'0.基礎情報'!$R$27=""))),"未回答",IF(AND(OR('0.基礎情報'!$C$28="",'0.基礎情報'!$K$28="",'0.基礎情報'!$R$28=""),NOT(AND('0.基礎情報'!$C$28="",'0.基礎情報'!$K$28="",'0.基礎情報'!$R$28=""))),"未回答",IF(AND(OR('0.基礎情報'!$C$29="",'0.基礎情報'!$K$29="",'0.基礎情報'!$R$29=""),NOT(AND('0.基礎情報'!$C$29="",'0.基礎情報'!$K$29="",'0.基礎情報'!$R$29=""))),"未回答",IF(AND(OR('0.基礎情報'!$C$30="",'0.基礎情報'!$K$30="",'0.基礎情報'!$R$30=""),NOT(AND('0.基礎情報'!$C$30="",'0.基礎情報'!$K$30="",'0.基礎情報'!$R$30=""))),"未回答",IF(AND(OR('0.基礎情報'!$C$31="",'0.基礎情報'!$K$31="",'0.基礎情報'!$R$31=""),NOT(AND('0.基礎情報'!$C$31="",'0.基礎情報'!$K$31="",'0.基礎情報'!$R$31=""))),"未回答",IF(AND(OR('0.基礎情報'!$C$32="",'0.基礎情報'!$K$32="",'0.基礎情報'!$R$32=""),NOT(AND('0.基礎情報'!$C$32="",'0.基礎情報'!$K$32="",'0.基礎情報'!$R$32=""))),"未回答",IF(AND(OR('0.基礎情報'!$C$33="",'0.基礎情報'!$K$33="",'0.基礎情報'!$R$33=""),NOT(AND('0.基礎情報'!$C$33="",'0.基礎情報'!$K$33="",'0.基礎情報'!$R$33=""))),"未回答",IF(AND(OR('0.基礎情報'!$C$34="",'0.基礎情報'!$K$34="",'0.基礎情報'!$R$34=""),NOT(AND('0.基礎情報'!$C$34="",'0.基礎情報'!$K$34="",'0.基礎情報'!$R$34=""))),"未回答",IF(AND(OR('0.基礎情報'!$C$35="",'0.基礎情報'!$K$35="",'0.基礎情報'!$R$35=""),NOT(AND('0.基礎情報'!$C$35="",'0.基礎情報'!$K$35="",'0.基礎情報'!$R$35=""))),"未回答",IF(AND(OR('0.基礎情報'!$C$36="",'0.基礎情報'!$K$36="",'0.基礎情報'!$R$36=""),NOT(AND('0.基礎情報'!$C$36="",'0.基礎情報'!$K$36="",'0.基礎情報'!$R$36=""))),"未回答",IF(AND(OR('0.基礎情報'!$C$37="",'0.基礎情報'!$K$37="",'0.基礎情報'!$R$37=""),NOT(AND('0.基礎情報'!$C$37="",'0.基礎情報'!$K$37="",'0.基礎情報'!$R$37=""))),"未回答",IF(AND(OR('0.基礎情報'!$C$38="",'0.基礎情報'!$K$38="",'0.基礎情報'!$R$38=""),NOT(AND('0.基礎情報'!$C$38="",'0.基礎情報'!$K$38="",'0.基礎情報'!$R$38=""))),"未回答",IF(AND(OR('0.基礎情報'!$C$39="",'0.基礎情報'!$K$39="",'0.基礎情報'!$R$39=""),NOT(AND('0.基礎情報'!$C$39="",'0.基礎情報'!$K$39="",'0.基礎情報'!$R$39=""))),"未回答",IF(AND(OR('0.基礎情報'!$C$40="",'0.基礎情報'!$K$40="",'0.基礎情報'!$R$40=""),NOT(AND('0.基礎情報'!$C$40="",'0.基礎情報'!$K$40="",'0.基礎情報'!$R$40=""))),"未回答","回答済み")))))))))))))))))))) -> 回答済み | N22: TRUE
E23: 実績 | F23: =IF(OR('0.基礎情報'!$AB$21="",'0.基礎情報'!$AJ$21="",'0.基礎情報'!$AQ$21=""),"未回答",IF(AND(OR('0.基礎情報'!$AB$22="",'0.基礎情報'!$AJ$22="",'0.基礎情報'!$AQ$22=""),NOT(AND('0.基礎情報'!$AB$22="",'0.基礎情報'!$AJ$22="",'0.基礎情報'!$AQ$22=""))),"未回答",IF(AND(OR('0.基礎情報'!$AB$23="",'0.基礎情報'!$AJ$23="",'0.基礎情報'!$AQ$23=""),NOT(AND('0.基礎情報'!$AB$23="",'0.基礎情報'!$AJ$23="",'0.基礎情報'!$AQ$23=""))),"未回答",IF(AND(OR('0.基礎情報'!$AB$24="",'0.基礎情報'!$AJ$24="",'0.基礎情報'!$AQ$24=""),NOT(AND('0.基礎情報'!$AB$24="",'0.基礎情報'!$AJ$24="",'0.基礎情報'!$AQ$24=""))),"未回答",IF(AND(OR('0.基礎情報'!$AB$25="",'0.基礎情報'!$AJ$25="",'0.基礎情報'!$AQ$25=""),NOT(AND('0.基礎情報'!$AB$25="",'0.基礎情報'!$AJ$25="",'0.基礎情報'!$AQ$25=""))),"未回答",IF(AND(OR('0.基礎情報'!$AB$26="",'0.基礎情報'!$AJ$26="",'0.基礎情報'!$AQ$26=""),NOT(AND('0.基礎情報'!$AB$26="",'0.基礎情報'!$AJ$26="",'0.基礎情報'!$AQ$26=""))),"未回答",IF(AND(OR('0.基礎情報'!$AB$27="",'0.基礎情報'!$AJ$27="",'0.基礎情報'!$AQ$27=""),NOT(AND('0.基礎情報'!$AB$27="",'0.基礎情報'!$AJ$27="",'0.基礎情報'!$AQ$27=""))),"未回答",IF(AND(OR('0.基礎情報'!$AB$28="",'0.基礎情報'!$AJ$28="",'0.基礎情報'!$AQ$28=""),NOT(AND('0.基礎情報'!$AB$28="",'0.基礎情報'!$AJ$28="",'0.基礎情報'!$AQ$28=""))),"未回答",IF(AND(OR('0.基礎情報'!$AB$29="",'0.基礎情報'!$AJ$29="",'0.基礎情報'!$AQ$29=""),NOT(AND('0.基礎情報'!$AB$29="",'0.基礎情報'!$AJ$29="",'0.基礎情報'!$AQ$29=""))),"未回答",IF(AND(OR('0.基礎情報'!$AB$30="",'0.基礎情報'!$AJ$30="",'0.基礎情報'!$AQ$30=""),NOT(AND('0.基礎情報'!$AB$30="",'0.基礎情報'!$AJ$30="",'0.基礎情報'!$AQ$30=""))),"未回答",IF(AND(OR('0.基礎情報'!$AB$31="",'0.基礎情報'!$AJ$31="",'0.基礎情報'!$AQ$31=""),NOT(AND('0.基礎情報'!$AB$31="",'0.基礎情報'!$AJ$31="",'0.基礎情報'!$AQ$31=""))),"未回答",IF(AND(OR('0.基礎情報'!$AB$32="",'0.基礎情報'!$AJ$32="",'0.基礎情報'!$AQ$32=""),NOT(AND('0.基礎情報'!$AB$32="",'0.基礎情報'!$AJ$32="",'0.基礎情報'!$AQ$32=""))),"未回答",IF(AND(OR('0.基礎情報'!$AB$33="",'0.基礎情報'!$AJ$33="",'0.基礎情報'!$AQ$33=""),NOT(AND('0.基礎情報'!$AB$33="",'0.基礎情報'!$AJ$33="",'0.基礎情報'!$AQ$33=""))),"未回答",IF(AND(OR('0.基礎情報'!$AB$34="",'0.基礎情報'!$AJ$34="",'0.基礎情報'!$AQ$34=""),NOT(AND('0.基礎情報'!$AB$34="",'0.基礎情報'!$AJ$34="",'0.基礎情報'!$AQ$34=""))),"未回答",IF(AND(OR('0.基礎情報'!$AB$35="",'0.基礎情報'!$AJ$35="",'0.基礎情報'!$AQ$35=""),NOT(AND('0.基礎情報'!$AB$35="",'0.基礎情報'!$AJ$35="",'0.基礎情報'!$AQ$35=""))),"未回答",IF(AND(OR('0.基礎情報'!$AB$36="",'0.基礎情報'!$AJ$36="",'0.基礎情報'!$AQ$36=""),NOT(AND('0.基礎情報'!$AB$36="",'0.基礎情報'!$AJ$36="",'0.基礎情報'!$AQ$36=""))),"未回答",IF(AND(OR('0.基礎情報'!$AB$37="",'0.基礎情報'!$AJ$37="",'0.基礎情報'!$AQ$37=""),NOT(AND('0.基礎情報'!$AB$37="",'0.基礎情報'!$AJ$37="",'0.基礎情報'!$AQ$37=""))),"未回答",IF(AND(OR('0.基礎情報'!$AB$38="",'0.基礎情報'!$AJ$38="",'0.基礎情報'!$AQ$38=""),NOT(AND('0.基礎情報'!$AB$38="",'0.基礎情報'!$AJ$38="",'0.基礎情報'!$AQ$38=""))),"未回答",IF(AND(OR('0.基礎情報'!$AB$39="",'0.基礎情報'!$AJ$39="",'0.基礎情報'!$AQ$39=""),NOT(AND('0.基礎情報'!$AB$39="",'0.基礎情報'!$AJ$39="",'0.基礎情報'!$AQ$39=""))),"未回答",IF(AND(OR('0.基礎情報'!$AB$40="",'0.基礎情報'!$AJ$40="",'0.基礎情報'!$AQ$40=""),NOT(AND('0.基礎情報'!$AB$40="",'0.基礎情報'!$AJ$40="",'0.基礎情報'!$AQ$40=""))),"未回答","回答済み")))))))))))))))))))) -> 回答済み
D24: 2. 事業の収支 | E24: 予定 | F24: =IF('0.基礎情報'!$H$12='【発出時非表示】プルダウンリスト'!$B$6,IF(OR('0.基礎情報'!$C$50="",'0.基礎情報'!$R$50=""),"未回答",IF(AND(OR('0.基礎情報'!$C$51="",'0.基礎情報'!$R$51=""),NOT(AND('0.基礎情報'!$C$51="",'0.基礎情報'!$R$51=""))),"未回答",IF(AND(OR('0.基礎情報'!$C$52="",'0.基礎情報'!$R$52=""),NOT(AND('0.基礎情報'!$C$52="",'0.基礎情報'!$R$52=""))),"未回答",IF(AND(OR('0.基礎情報'!$C$53="",'0.基礎情報'!$R$53=""),NOT(AND('0.基礎情報'!$C$53="",'0.基礎情報'!$R$53=""))),"未回答",IF(AND(OR('0.基礎情報'!$C$54="",'0.基礎情報'!$R$54=""),NOT(AND('0.基礎情報'!$C$54="",'0.基礎情報'!$R$54=""))),"未回答",IF(AND(OR('0.基礎情報'!$C$55="",'0.基礎情報'!$R$55=""),NOT(AND('0.基礎情報'!$C$55="",'0.基礎情報'!$R$55=""))),"未回答",IF(AND(OR('0.基礎情報'!$C$56="",'0.基礎情報'!$R$56=""),NOT(AND('0.基礎情報'!$C$56="",'0.基礎情報'!$R$56=""))),"未回答",IF(AND(OR('0.基礎情報'!$C$57="",'0.基礎情報'!$R$57=""),NOT(AND('0.基礎情報'!$C$57="",'0.基礎情報'!$R$57=""))),"未回答",IF(AND(OR('0.基礎情報'!$C$58="",'0.基礎情報'!$R$58=""),NOT(AND('0.基礎情報'!$C$58="",'0.基礎情報'!$R$58=""))),"未回答",IF(AND(OR('0.基礎情報'!$C$59="",'0.基礎情報'!$R$59=""),NOT(AND('0.基礎情報'!$C$59="",'0.基礎情報'!$R$59=""))),"未回答",IF(AND(OR('0.基礎情報'!$C$60="",'0.基礎情報'!$R$60=""),NOT(AND('0.基礎情報'!$C$60="",'0.基礎情報'!$R$60=""))),"未回答",IF(AND(OR('0.基礎情報'!$C$61="",'0.基礎情報'!$R$61=""),NOT(AND('0.基礎情報'!$C$61="",'0.基礎情報'!$R$61=""))),"未回答",IF(AND(OR('0.基礎情報'!$C$62="",'0.基礎情報'!$R$62=""),NOT(AND('0.基礎情報'!$C$62="",'0.基礎情報'!$R$62=""))),"未回答",IF(AND(OR('0.基礎情報'!$C$63="",'0.基礎情報'!$R$63=""),NOT(AND('0.基礎情報'!$C$63="",'0.基礎情報'!$R$63=""))),"未回答",IF(AND(OR('0.基礎情報'!$C$64="",'0.基礎情報'!$R$64=""),NOT(AND('0.基礎情報'!$C$64="",'0.基礎情報'!$R$64=""))),"未回答",IF(AND(OR('0.基礎情報'!$C$65="",'0.基礎情報'!$R$65=""),NOT(AND('0.基礎情報'!$C$65="",'0.基礎情報'!$R$65=""))),"未回答",IF(AND(OR('0.基礎情報'!$C$66="",'0.基礎情報'!$R$66=""),NOT(AND('0.基礎情報'!$C$66="",'0.基礎情報'!$R$66=""))),"未回答",IF(AND(OR('0.基礎情報'!$C$67="",'0.基礎情報'!$R$67=""),NOT(AND('0.基礎情報'!$C$67="",'0.基礎情報'!$R$67=""))),"未回答",IF(AND(OR('0.基礎情報'!$C$68="",'0.基礎情報'!$R$68=""),NOT(AND('0.基礎情報'!$C$68="",'0.基礎情報'!$R$68=""))),"未回答",IF(AND(OR('0.基礎情報'!$C$69="",'0.基礎情報'!$R$69=""),NOT(AND('0.基礎情報'!$C$69="",'0.基礎情報'!$R$69=""))),"未回答","回答済み")))))))))))))))))))),IF(OR('0.基礎情報'!$C$50="",'0.基礎情報'!$R$50="",'0.基礎情報'!$C$72="",'0.基礎情報'!$R$72=""),"未回答",IF(AND(OR('0.基礎情報'!$C$51="",'0.基礎情報'!$R$51=""),NOT(AND('0.基礎情報'!$C$51="",'0.基礎情報'!$R$51=""))),"未回答",IF(AND(OR('0.基礎情報'!$C$52="",'0.基礎情報'!$R$52=""),NOT(AND('0.基礎情報'!$C$52="",'0.基礎情報'!$R$52=""))),"未回答",IF(AND(OR('0.基礎情報'!$C$53="",'0.基礎情報'!$R$53=""),NOT(AND('0.基礎情報'!$C$53="",'0.基礎情報'!$R$53=""))),"未回答",IF(AND(OR('0.基礎情報'!$C$54="",'0.基礎情報'!$R$54=""),NOT(AND('0.基礎情報'!$C$54="",'0.基礎情報'!$R$54=""))),"未回答",IF(AND(OR('0.基礎情報'!$C$55="",'0.基礎情報'!$R$55=""),NOT(AND('0.基礎情報'!$C$55="",'0.基礎情報'!$R$55=""))),"未回答",IF(AND(OR('0.基礎情報'!$C$56="",'0.基礎情報'!$R$56=""),NOT(AND('0.基礎情報'!$C$56="",'0.基礎情報'!$R$56=""))),"未回答",IF(AND(OR('0.基礎情報'!$C$57="",'0.基礎情報'!$R$57=""),NOT(AND('0.基礎情報'!$C$57="",'0.基礎情報'!$R$57=""))),"未回答",IF(AND(OR('0.基礎情報'!$C$58="",'0.基礎情報'!$R$58=""),NOT(AND('0.基礎情報'!$C$58="",'0.基礎情報'!$R$58=""))),"未回答",IF(AND(OR('0.基礎情報'!$C$59="",'0.基礎情報'!$R$59=""),NOT(AND('0.基礎情報'!$C$59="",'0.基礎情報'!$R$59=""))),"未回答",IF(AND(OR('0.基礎情報'!$C$60="",'0.基礎情報'!$R$60=""),NOT(AND('0.基礎情報'!$C$60="",'0.基礎情報'!$R$60=""))),"未回答",IF(AND(OR('0.基礎情報'!$C$61="",'0.基礎情報'!$R$61=""),NOT(AND('0.基礎情報'!$C$61="",'0.基礎情報'!$R$61=""))),"未回答",IF(AND(OR('0.基礎情報'!$C$62="",'0.基礎情報'!$R$62=""),NOT(AND('0.基礎情報'!$C$62="",'0.基礎情報'!$R$62=""))),"未回答",IF(AND(OR('0.基礎情報'!$C$63="",'0.基礎情報'!$R$63=""),NOT(AND('0.基礎情報'!$C$63="",'0.基礎情報'!$R$63=""))),"未回答",IF(AND(OR('0.基礎情報'!$C$64="",'0.基礎情報'!$R$64=""),NOT(AND('0.基礎情報'!$C$64="",'0.基礎情報'!$R$64=""))),"未回答",IF(AND(OR('0.基礎情報'!$C$65="",'0.基礎情報'!$R$65=""),NOT(AND('0.基礎情報'!$C$65="",'0.基礎情報'!$R$65=""))),"未回答",IF(AND(OR('0.基礎情報'!$C$66="",'0.基礎情報'!$R$66=""),NOT(AND('0.基礎情報'!$C$66="",'0.基礎情報'!$R$66=""))),"未回答",IF(AND(OR('0.基礎情報'!$C$67="",'0.基礎情報'!$R$67=""),NOT(AND('0.基礎情報'!$C$67="",'0.基礎情報'!$R$67=""))),"未回答",IF(AND(OR('0.基礎情報'!$C$68="",'0.基礎情報'!$R$68=""),NOT(AND('0.基礎情報'!$C$68="",'0.基礎情報'!$R$68=""))),"未回答",IF(AND(OR('0.基礎情報'!$C$69="",'0.基礎情報'!$R$69=""),NOT(AND('0.基礎情報'!$C$69="",'0.基礎情報'!$R$69=""))),"未回答",IF(AND(OR('0.基礎情報'!$C$73="",'0.基礎情報'!$R$73=""),NOT(AND('0.基礎情報'!$C$73="",'0.基礎情報'!$R$73=""))),"未回答",IF(AND(OR('0.基礎情報'!$C$74="",'0.基礎情報'!$R$74=""),NOT(AND('0.基礎情報'!$C$74="",'0.基礎情報'!$R$74=""))),"未回答",IF(AND(OR('0.基礎情報'!$C$75="",'0.基礎情報'!$R$75=""),NOT(AND('0.基礎情報'!$C$75="",'0.基礎情報'!$R$75=""))),"未回答",IF(AND(OR('0.基礎情報'!$C$76="",'0.基礎情報'!$R$76=""),NOT(AND('0.基礎情報'!$C$76="",'0.基礎情報'!$R$76=""))),"未回答",IF(AND(OR('0.基礎情報'!$C$77="",'0.基礎情報'!$R$77=""),NOT(AND('0.基礎情報'!$C$77="",'0.基礎情報'!$R$77=""))),"未回答",IF(AND(OR('0.基礎情報'!$C$78="",'0.基礎情報'!$R$78=""),NOT(AND('0.基礎情報'!$C$78="",'0.基礎情報'!$R$78=""))),"未回答",IF(AND(OR('0.基礎情報'!$C$79="",'0.基礎情報'!$R$79=""),NOT(AND('0.基礎情報'!$C$79="",'0.基礎情報'!$R$79=""))),"未回答",IF(AND(OR('0.基礎情報'!$C$80="",'0.基礎情報'!$R$80=""),NOT(AND('0.基礎情報'!$C$80="",'0.基礎情報'!$R$80=""))),"未回答",IF(AND(OR('0.基礎情報'!$C$81="",'0.基礎情報'!$R$81=""),NOT(AND('0.基礎情報'!$C$81="",'0.基礎情報'!$R$81=""))),"未回答",IF(AND(OR('0.基礎情報'!$C$82="",'0.基礎情報'!$R$82=""),NOT(AND('0.基礎情報'!$C$82="",'0.基礎情報'!$R$82=""))),"未回答",IF(AND(OR('0.基礎情報'!$C$83="",'0.基礎情報'!$R$83=""),NOT(AND('0.基礎情報'!$C$83="",'0.基礎情報'!$R$83=""))),"未回答",IF(AND(OR('0.基礎情報'!$C$84="",'0.基礎情報'!$R$84=""),NOT(AND('0.基礎情報'!$C$84="",'0.基礎情報'!$R$84=""))),"未回答",IF(AND(OR('0.基礎情報'!$C$85="",'0.基礎情報'!$R$85=""),NOT(AND('0.基礎情報'!$C$85="",'0.基礎情報'!$R$85=""))),"未回答",IF(AND(OR('0.基礎情報'!$C$86="",'0.基礎情報'!$R$86=""),NOT(AND('0.基礎情報'!$C$86="",'0.基礎情報'!$R$86=""))),"未回答",IF(AND(OR('0.基礎情報'!$C$87="",'0.基礎情報'!$R$87=""),NOT(AND('0.基礎情報'!$C$87="",'0.基礎情報'!$R$87=""))),"未回答",IF(AND(OR('0.基礎情報'!$C$88="",'0.基礎情報'!$R$88=""),NOT(AND('0.基礎情報'!$C$88="",'0.基礎情報'!$R$88=""))),"未回答",IF(AND(OR('0.基礎情報'!$C$89="",'0.基礎情報'!$R$89=""),NOT(AND('0.基礎情報'!$C$89="",'0.基礎情報'!$R$89=""))),"未回答",IF(AND(OR('0.基礎情報'!$C$90="",'0.基礎情報'!$R$90=""),NOT(AND('0.基礎情報'!$C$90="",'0.基礎情報'!$R$90=""))),"未回答",IF(AND(OR('0.基礎情報'!$C$91="",'0.基礎情報'!$R$91=""),NOT(AND('0.基礎情報'!$C$91="",'0.基礎情報'!$R$91=""))),"未回答","回答済み")))))))))))))))))))))))))))))))))))))))) -> 回答済み
E25: 実績 | F25: =IF(OR('0.基礎情報'!$AB$50="",'0.基礎情報'!$AQ$50="",'0.基礎情報'!$AB$72="",'0.基礎情報'!$AQ$72=""),"未回答",IF(AND(OR('0.基礎情報'!$AB$51="",'0.基礎情報'!$AQ$51=""),NOT(AND('0.基礎情報'!$AB$51="",'0.基礎情報'!$AQ$51=""))),"未回答",IF(AND(OR('0.基礎情報'!$AB$52="",'0.基礎情報'!$AQ$52=""),NOT(AND('0.基礎情報'!$AB$52="",'0.基礎情報'!$AQ$52=""))),"未回答",IF(AND(OR('0.基礎情報'!$AB$53="",'0.基礎情報'!$AQ$53=""),NOT(AND('0.基礎情報'!$AB$53="",'0.基礎情報'!$AQ$53=""))),"未回答",IF(AND(OR('0.基礎情報'!$AB$54="",'0.基礎情報'!$AQ$54=""),NOT(AND('0.基礎情報'!$AB$54="",'0.基礎情報'!$AQ$54=""))),"未回答",IF(AND(OR('0.基礎情報'!$AB$55="",'0.基礎情報'!$AQ$55=""),NOT(AND('0.基礎情報'!$AB$55="",'0.基礎情報'!$AQ$55=""))),"未回答",IF(AND(OR('0.基礎情報'!$AB$56="",'0.基礎情報'!$AQ$56=""),NOT(AND('0.基礎情報'!$AB$56="",'0.基礎情報'!$AQ$56=""))),"未回答",IF(AND(OR('0.基礎情報'!$AB$57="",'0.基礎情報'!$AQ$57=""),NOT(AND('0.基礎情報'!$AB$57="",'0.基礎情報'!$AQ$57=""))),"未回答",IF(AND(OR('0.基礎情報'!$AB$58="",'0.基礎情報'!$AQ$58=""),NOT(AND('0.基礎情報'!$AB$58="",'0.基礎情報'!$AQ$58=""))),"未回答",IF(AND(OR('0.基礎情報'!$AB$59="",'0.基礎情報'!$AQ$59=""),NOT(AND('0.基礎情報'!$AB$59="",'0.基礎情報'!$AQ$59=""))),"未回答",IF(AND(OR('0.基礎情報'!$AB$60="",'0.基礎情報'!$AQ$60=""),NOT(AND('0.基礎情報'!$AB$60="",'0.基礎情報'!$AQ$60=""))),"未回答",IF(AND(OR('0.基礎情報'!$AB$61="",'0.基礎情報'!$AQ$61=""),NOT(AND('0.基礎情報'!$AB$61="",'0.基礎情報'!$AQ$61=""))),"未回答",IF(AND(OR('0.基礎情報'!$AB$62="",'0.基礎情報'!$AQ$62=""),NOT(AND('0.基礎情報'!$AB$62="",'0.基礎情報'!$AQ$62=""))),"未回答",IF(AND(OR('0.基礎情報'!$AB$63="",'0.基礎情報'!$AQ$63=""),NOT(AND('0.基礎情報'!$AB$63="",'0.基礎情報'!$AQ$63=""))),"未回答",IF(AND(OR('0.基礎情報'!$AB$64="",'0.基礎情報'!$AQ$64=""),NOT(AND('0.基礎情報'!$AB$64="",'0.基礎情報'!$AQ$64=""))),"未回答",IF(AND(OR('0.基礎情報'!$AB$65="",'0.基礎情報'!$AQ$65=""),NOT(AND('0.基礎情報'!$AB$65="",'0.基礎情報'!$AQ$65=""))),"未回答",IF(AND(OR('0.基礎情報'!$AB$66="",'0.基礎情報'!$AQ$66=""),NOT(AND('0.基礎情報'!$AB$66="",'0.基礎情報'!$AQ$66=""))),"未回答",IF(AND(OR('0.基礎情報'!$AB$67="",'0.基礎情報'!$AQ$67=""),NOT(AND('0.基礎情報'!$AB$67="",'0.基礎情報'!$AQ$67=""))),"未回答",IF(AND(OR('0.基礎情報'!$AB$68="",'0.基礎情報'!$AQ$68=""),NOT(AND('0.基礎情報'!$AB$68="",'0.基礎情報'!$AQ$68=""))),"未回答",IF(AND(OR('0.基礎情報'!$AB$69="",'0.基礎情報'!$AQ$69=""),NOT(AND('0.基礎情報'!$AB$69="",'0.基礎情報'!$AQ$69=""))),"未回答",IF(AND(OR('0.基礎情報'!$AB$73="",'0.基礎情報'!$AQ$73=""),NOT(AND('0.基礎情報'!$AB$73="",'0.基礎情報'!$AQ$73=""))),"未回答",IF(AND(OR('0.基礎情報'!$AB$74="",'0.基礎情報'!$AQ$74=""),NOT(AND('0.基礎情報'!$AB$74="",'0.基礎情報'!$AQ$74=""))),"未回答",IF(AND(OR('0.基礎情報'!$AB$75="",'0.基礎情報'!$AQ$75=""),NOT(AND('0.基礎情報'!$AB$75="",'0.基礎情報'!$AQ$75=""))),"未回答",IF(AND(OR('0.基礎情報'!$AB$76="",'0.基礎情報'!$AQ$76=""),NOT(AND('0.基礎情報'!$AB$76="",'0.基礎情報'!$AQ$76=""))),"未回答",IF(AND(OR('0.基礎情報'!$AB$77="",'0.基礎情報'!$AQ$77=""),NOT(AND('0.基礎情報'!$AB$77="",'0.基礎情報'!$AQ$77=""))),"未回答",IF(AND(OR('0.基礎情報'!$AB$78="",'0.基礎情報'!$AQ$78=""),NOT(AND('0.基礎情報'!$AB$78="",'0.基礎情報'!$AQ$78=""))),"未回答",IF(AND(OR('0.基礎情報'!$AB$79="",'0.基礎情報'!$AQ$79=""),NOT(AND('0.基礎情報'!$AB$79="",'0.基礎情報'!$AQ$79=""))),"未回答",IF(AND(OR('0.基礎情報'!$AB$80="",'0.基礎情報'!$AQ$80=""),NOT(AND('0.基礎情報'!$AB$80="",'0.基礎情報'!$AQ$80=""))),"未回答",IF(AND(OR('0.基礎情報'!$AB$81="",'0.基礎情報'!$AQ$81=""),NOT(AND('0.基礎情報'!$AB$81="",'0.基礎情報'!$AQ$81=""))),"未回答",IF(AND(OR('0.基礎情報'!$AB$82="",'0.基礎情報'!$AQ$82=""),NOT(AND('0.基礎情報'!$AB$82="",'0.基礎情報'!$AQ$82=""))),"未回答",IF(AND(OR('0.基礎情報'!$AB$83="",'0.基礎情報'!$AQ$83=""),NOT(AND('0.基礎情報'!$AB$83="",'0.基礎情報'!$AQ$83=""))),"未回答",IF(AND(OR('0.基礎情報'!$AB$84="",'0.基礎情報'!$AQ$84=""),NOT(AND('0.基礎情報'!$AB$84="",'0.基礎情報'!$AQ$84=""))),"未回答",IF(AND(OR('0.基礎情報'!$AB$85="",'0.基礎情報'!$AQ$85=""),NOT(AND('0.基礎情報'!$AB$85="",'0.基礎情報'!$AQ$85=""))),"未回答",IF(AND(OR('0.基礎情報'!$AB$86="",'0.基礎情報'!$AQ$86=""),NOT(AND('0.基礎情報'!$AB$86="",'0.基礎情報'!$AQ$86=""))),"未回答",IF(AND(OR('0.基礎情報'!$AB$87="",'0.基礎情報'!$AQ$87=""),NOT(AND('0.基礎情報'!$AB$87="",'0.基礎情報'!$AQ$87=""))),"未回答",IF(AND(OR('0.基礎情報'!$AB$88="",'0.基礎情報'!$AQ$88=""),NOT(AND('0.基礎情報'!$AB$88="",'0.基礎情報'!$AQ$88=""))),"未回答",IF(AND(OR('0.基礎情報'!$AB$89="",'0.基礎情報'!$AQ$89=""),NOT(AND('0.基礎情報'!$AB$89="",'0.基礎情報'!$AQ$89=""))),"未回答",IF(AND(OR('0.基礎情報'!$AB$90="",'0.基礎情報'!$AQ$90=""),NOT(AND('0.基礎情報'!$AB$90="",'0.基礎情報'!$AQ$90=""))),"未回答",IF(AND(OR('0.基礎情報'!$AB$91="",'0.基礎情報'!$AQ$91=""),NOT(AND('0.基礎情報'!$AB$91="",'0.基礎情報'!$AQ$91=""))),"未回答","回答済み"))))))))))))))))))))))))))))))))))))))) -> 回答済み | I25: 「0. 基礎情報」シートの「3. 事業のKPI」にて、KPI達成/未達成/未計測の理由や今後の取組について、記入例や記載方法を十分に読んだうえで、問われていることに対して、適切に回答した。
D26: 3. 事業のKPI | E26: KPI① | F26: ='0.基礎情報'!$BI$169 -> 回答済み
E27: KPI② | F27: ='0.基礎情報'!$BI$217 -> 回答済み | N27: TRUE
E28: KPI③ | F28: ='0.基礎情報'!$BI$265 -> 回答済み
E29: KPI④ | F29: ='0.基礎情報'!$BI$313 -> 回答済み
E30: KPI⑤ | F30: ='0.基礎情報'!$BI$361 -> 回答済み
E31: KPI⑥ | F31: ='0.基礎情報'!$BI$409 -> ― | I31: 上記を含む、全ての回答内容について、責任者が確認を行い、事業実施団体からの回答として、適切な内容になっていることを確認した。
E32: KPI⑦ | F32: ='0.基礎情報'!$BI$457 -> ―
E33: KPI⑧ | F33: ='0.基礎情報'!$BI$505 -> ― | N33: TRUE
E34: KPI⑨ | F34: ='0.基礎情報'!$BI$553 -> ―
E35: KPI⑩ | F35: ='0.基礎情報'!$BI$601 -> ―
E36: KPI⑪ | F36: ='0.基礎情報'!$BI$649 -> ―
E37: KPI⑫ | F37: ='0.基礎情報'!$BI$697 -> ―
E38: KPI⑬ | F38: ='0.基礎情報'!$BI$745 -> ―
E39: KPI⑭ | F39: ='0.基礎情報'!$BI$793 -> ―
E40: KPI⑮ | F40: ='0.基礎情報'!$BI$841 -> ―
C41: 1.推進体制 | D41: ①継続運営可能な庁内推進体制 | E41: 1 | F41: =IF('1.推進体制'!$AE$8="未回答","未回答","回答済み") -> 回答済み
E42: 2 | F42: =IF('1.推進体制'!$AE$15="未回答","未回答","回答済み") -> 回答済み
E43: 3 | F43: =IF(OR('1.推進体制'!$AE$23="未回答",'1.推進体制'!$AE$26="未回答"),"未回答","回答済み") -> 回答済み
E44: 4 | F44: =IF('1.推進体制'!$AE$30="未回答","未回答",IF('1.推進体制'!$AE$30="入力不備","入力不備","回答済み")) -> 回答済み
E45: 5 | F45: =IF('1.推進体制'!$AE$35="未回答","未回答","回答済み") -> 回答済み
E46: 6 | F46: =IF('1.推進体制'!$AE$39="未回答","未回答","回答済み") -> 回答済み
...

Sheet 0.基礎情報
BE2: ※発出時、BE～BI列非表示
C3: デジタル実装タイプ・デジタル実装型TYPE1事業実施報告
C5: ※申請事業1事業につき事業実施報告書1部を提出するようお願いいたします。（別ファイルで作成・提出）
C6: 地方公共団体コード | H6: 01400 | K6: 都道府県名 | P6: =IFERROR(VLOOKUP($H$6,'【発出時非表示】地方公共団体'!$A:$C,2,0),"") -> 北海道 | W6: 市区町村等名 | AB6: =IFERROR(IF(VLOOKUP($H$6,'【発出時非表示】地方公共団体'!$A:$C,3,0)="","",(VLOOKUP($H$6,'【発出時非表示】地方公共団体'!$A:$C,3,0))),"") -> 倶知安町 | AN6: 評価対象年度 | AS6: ='【発出時非表示】評価対象年度入力'!B2 -> 2025
C8: 担当部局名 | H8: 社会教育課
C9: 責任者名 | H9: 川埜 真裕 | O9: 責任者役職 | T9: 課長 | AA9: 担当者名 | AF9: 芳田 国弘
C10: 電話番号 | H10: 0136-22-2288 | O10: メールアドレス | T10: taiikukan@town.kutchan.lg.jp | AN10: 記入日 | AS10: 46169
C12: 交付金予算年度 | H12: 令和6年度補正新しい地方経済・生活環境創生交付金(デジタル実装型TYPE1)
C13: 交付対象事業名称 | H13: 社会教育施設デジタル化によるサービス向上事業 | AN13: 単独・地域間連携 | AS13: =IFERROR(VLOOKUP($BE$14,'【発出時非表示】分野分類等の参照先'!$A:$D,2,0),"") -> 単独 | BE13: =SUBSTITUTE(SUBSTITUTE($H$12,"(","_"),")","")&"_"&$H$6 -> 令和6年度補正新しい地方経済・生活環境創生交付金_デジタル実装型TYPE1_01400
C14: サービス分野 | H14: =IFERROR(VLOOKUP($BE$14,'【発出時非表示】分野分類等の参照先'!$A:$D,3,0),"") -> 住民サービス | O14: サービス分類 | T14: =IFERROR(VLOOKUP($BE$14,'【発出時非表示】分野分類等の参照先'!$A:$D,4,0),"") -> 公共施設等予約システム | BE14: =$H$12&$H$6&$H$13 -> 令和6年度補正新しい地方経済・生活環境創生交付金(デジタル実装型TYPE1)01400社会教育施設デジタル化によるサービス向上事業
C16: １．推進体制
C17: ※行が足りない場合には、追加様式をご使用ください。追加様式が必要な場合、問合せ先（EYストラテジー・アンド・コンサルティング株式会社）へメール（digital.jisso.ey@jp.ey.com）にて問合せください。
C19: 予定していた事業推進体制・構成員 | AB19: 実際の事業推進体制・構成員
C20: 名称（団体・事業者名） | K20: 団体・事業者概要 | R20: 事業における役割 | AB20: 名称（団体・事業者名） | AJ20: 団体・事業者概要 | AQ20: 事業における役割
C21: 倶知安町 | K21: 事業実施主体 | R21: 事業計画の立案 報告書作成をはじめとする事業全般の管理・統括業務 補助事業執行 | AB21: 倶知安町 | AJ21: 事業実施主体 | AQ21: 事業計画の立案 報告書作成をはじめとする事業全般の管理・統括業務 補助事業執行
C22: サービス提供事業者 | K22: 業務委託先 | R22: 事業の提供 | AB22: サービス提供事業者 | AJ22: 業務委託先 | AQ22: 事業の提供
C23: 予約管理システム提供会社 | K23: 委託事業者のシステム調達先 | R23: システムの提供 | AB23: 予約管理システム提供会社 | AJ23: 委託事業者のシステム調達先 | AQ23: システムの提供
C24: スマートロックシステム提供会社 | K24: 委託事業者のシステム調達先 | R24: システムの提供 施設への機器設置 | AB24: スマートロックシステム提供会社 | AJ24: 委託事業者のシステム調達先 | AQ24: システムの提供 施設への機器設置
C25: 施設利用団体 | K25: 地域住民 | R25: 事業yに対する利便性等の評価 | AB25: 施設利用団体 | AJ25: 地域住民 | AQ25: 事業yに対する利便性等の評価
Z30: ▶
C42: ２．事業の収支
C43: 経費項目は、事業の継続的な実施に要する費用（システムのランニングコストや運営に係る人件費、プロモーション費用等）を網羅的に記載ください。
C44: 収入項目は、サービスの利用料収入、事業者からの負担金や寄付金、申請団体自身による補助金、県の補助金、国の補助金など網羅的に記載ください。
C45: ="※「予定していた"&'【発出時非表示】評価対象年度入力'!B2&"年度の事業収支」欄については、経費項目・収入項目ともに実施計画書より転記ください。また、経費や収入が発生していない場合には、各欄一行目の項目欄に「なし」、金額欄に「0」をご入力ください。" -> ※「予定していた2025年度の事業収支」欄については、経費項目・収入項目ともに実施計画書より転記ください。また、経費や収入が発生していない場合には、各欄一行目の項目欄に「なし」、金額欄に「0」をご入力ください。
C46: ※行が足りない場合には、追加様式をご使用ください。追加様式が必要な場合、問合せ先（EYストラテジー・アンド・コンサルティング株式会社）へメール（digital.jisso.ey@jp.ey.com）にて問合せください。
C48: ="予定していた"&'【発出時非表示】評価対象年度入力'!B2&"年度の事業収支（実施計画書より転記）" -> 予定していた2025年度の事業収支（実施計画書より転記） | AB48: ="実際の"&'【発出時非表示】評価対象年度入力'!B2&"年度の事業収支" -> 実際の2025年度の事業収支
C49: 経費項目 | R49: 金額（単位：千円） | AB49: 経費項目 | AQ49: 金額（単位：千円）
C50: 予約管理システム利用料 | R50: 2233 | AB50: 予約管理システム利用料 | AQ50: 2002
C51: スマートロック利用料 | R51: 670 | AB51: スマートロック利用料 | AQ51: 601
C52: 予約管理システム クラウドサービス設定 | R52: 660 | AB52: 予約管理システム クラウドサービス設定 | AQ52: 660
C53: 予約管理システム 基礎データ登録 | R53: 660 | AB53: 予約管理システム 基礎データ登録 | AQ53: 660
C54: 予約管理システム 操作研修 | R54: 275 | AB54: 予約管理システム 操作研修 | AQ54: 275
C55: 予約管理システム 導入コンサルティング | R55: 880 | AB55: 予約管理システム 導入コンサルティング | AQ55: 880
C56: スマートロック機器（本体） | R56: 924 | AB56: スマートロック機器（本体） | AQ56: 924
C57: スマートロック機器（ゲートウェイ） | R57: 231 | AB57: スマートロック機器（ゲートウェイ） | AQ57: 231
C58: スマートロック機器（本施錠） | R58: 57 | AB58: スマートロック機器（本施錠） | AQ58: 58
C59: スマートロック機器（外部キーBOX） | R59: 770 | AB59: スマートロック機器（外部キーBOX） | AQ59: 770
C60: スマートロック機器（中継器・ゲートウェイ用BOX） | R60: 178 | AB60: スマートロック機器（中継器・ゲートウェイ用BOX） | AQ60: 177
C61: スマートロック機器取付費 | R61: 1425 | AB61: スマートロック機器取付費 | AQ61: 1040
... C66: 現場管理作業費 | R66: 404 | AB66: 現場管理作業費 | AQ66: 404
...

Sheet 1.推進体制
C2: 1. 推進体制 | AI2: ※発出時、列非表示
C4: ①継続運営可能な庁内推進体制
C5: 1 | D5: 事業担当課※1内および関連部課※2間での情報共有がなされていたか
D6: ※1：事業担当課は、事業の取りまとめ課を想定
D7: ※2：関連部課は、実装サービスを管理・利用する部課を想定
E8: 1： | F8: 事業担当課および関連部課で密にコミュニケーションをとり、定期的に相談できる情報交換の場を設けていた | AE8: =IF(AI8>0,AI8,"未回答") -> 3 | AI8: 3
E9: 2： | F9: 事業担当課および関連部課でコミュニケーションをとり、適宜相談できる関係性を維持していた
E10: 3： | F10: 事業担当課内では密にコミュニケーションをとっており、関連部課へは定期的に情報共有を行った
E11: 4： | F11: 事業担当課内ではコミュニケーションをとっているが、関連部課へは不定期の情報共有にとどまっていた
E12: 5： | F12: 事業担当課内と関連部課のいずれにおいても十分に情報共有できていなかった
C14: 2 | D14: 事業を継続的に運営するために必要な庁内の人員は確保されていたか
E15: 1： | F15: 事業実施責任者及び専任の実務担当者を確保できていた | AE15: =IF(AI15>0,AI15,"未回答") -> 3 | AI15: 3
E16: 2： | F16: 事業の専任の実務担当者を確保できていた
E17: 3： | F17: 他の事業と兼任の実務担当者を複数名確保できていた
E18: 4： | F18: 他の事業と兼任の実務担当者を1名確保できていた
E19: 5： | F19: 十分な人員を確保できていなかった
C21: 3 | D21: 庁内の推進体制に参画していた部署やワーキンググループ等をすべて選択してください（複数回答）
D22: [f:その他]を選択した場合は、下段の[その他の部課等]欄に記入してください | AG22: =IF(AI22=TRUE,IF(OR(AI23:AI27)=TRUE,"a,","a"),"") -> a, | AI22: TRUE
E23: a：取りまとめ課（企画課・デジタル関係課等） | P23: b：事業を担う原課 | X23: c：広報関連部署 | AE23: =IF(OR(AI22:AI27)=TRUE,CONCATENATE(AG22,AG23,AG24,AG25,AG26,AG27),"未回答") -> a,b,d | AG23: =IF(AI23=TRUE,IF(OR(AI24:AI27)=TRUE,"b,","b"),"") -> b, | AI23: TRUE
E24: d：事業実施責任者（部課長等） | P24: e：各種ワーキンググループ（自治体のデジタル化推進グループ等） | AG24: =IF(AI24=TRUE,IF(OR(AI25:AI27)=TRUE,"c,","c"),"") | AI24: FALSE
E25: f：その他（参画した部課等を下段に記入） | AG25: =IF(AI25=TRUE,IF(OR(AI26:AI27)=TRUE,"d,","d"),"") -> d | AI25: TRUE
D26: その他の部課等（例：福祉課、観光課） | AE26: =IF(AI27=FALSE,"―",IF(D27="","未回答","回答済")) -> ― | AG26: =IF(AI26=TRUE,IF(AI27=TRUE,"e,","e"),"") | AI26: FALSE
AG27: =IF(AI27=TRUE,"f","") | AI27: FALSE
AI28: =D27 -> 0
C29: 4 | D29: サービス実装・運用に際して庁内の推進体制ではどのようなことを実施していたか、当てはまる項目をすべて選択してください（複数回答） | AG29: =IF(AI29=TRUE,IF(OR(AI30:AI34)=TRUE,"a,","a"),"") -> a, | AI29: TRUE
E30: a：各担当者の役割を明確にしていた | Q30: b：各担当者が十分な時間を確保して事業に関与していた | AE30: =IF(AND(AI34=TRUE,OR(AI29:AI33)=TRUE),"入力不備",IF(OR(AI29:AI34)=TRUE,CONCATENATE(AG29,AG30,AG31,AG32,AG33,AG34),"未回答")) -> a,c | AG30: =IF(AI30=TRUE,IF(OR(AI31:AI34)=TRUE,"b,","b"),"") | AI30: FALSE
E31: c：各担当者と密に情報を共有していた | Q31: d：各担当者がスケジュールどおりに作業を進めていた | AG31: =IF(AI31=TRUE,IF(OR(AI32:AI34)=TRUE,"c,","c"),"") -> c | AI31: TRUE
E32: e：事業推進において庁内の推進体制全体で適切な意思決定を行っていた | V32: f：いずれも該当しない | AG32: =IF(AI32=TRUE,IF(OR(AI33:AI34)=TRUE,"d,","d"),"") | AI32: FALSE
AG33: =IF(AI33=TRUE,IF(AI34=TRUE,"e,","e"),"") | AI33: FALSE
C34: 5 | D34: 庁内関係部署全体での定例会議をどの程度の頻度で実施したか | AG34: =IF(AI34=TRUE,"f","") | AI34: FALSE
E35: 1：週次程度 | N35: 2：隔週程度 | W35: 3：月に1回程度 | AE35: =IF(AI35>0,AI35,"未回答") -> 3 | AI35: 3
E36: 4：隔月程度 | N36: 5：隔月よりも少ない頻度
C38: 6 | D38: 事業実施責任者は、どの程度事業の遂行に対してコミットしていたか
E39: 事業実施責任者が事業の推進を強く求めており、関係部課への協力依頼や人材確保について全面的な後押しがあった | AE39: =IF(AI39>0,AI39,"未回答") -> 4 | AI39: 4
E40: 事業実施責任者が事業の推進を強く求めており、具体的な支援はなかったものの、事業推進に対して主体的に関与していた
E41: 事業実施責任者が事業の推進にある程度関与しており、庁内での会議等に定期的に参加し進捗を確認していた
E42: 事業実施責任者が事業の推進にある程度関与しており、事業の進捗について定期的に報告を行う機会があった
E43: 事業実施責任者の事業への関与はあまり大きくなかった（事業進捗の把握が半年に1回未満であった）
C45: ②継続運営可能な庁外推進体制（地域のステークホルダー・委託事業者を含む）
C46: 7 | D46: サービス実装・運用に際して庁外の推進体制ではどのようなことを実施していたか、当てはまる項目をすべて選択してください（複数回答） | AG46: =IF(AI46=TRUE,IF(OR(AI47:AI51)=TRUE,"a,","a"),"") -> a, | AI46: TRUE
...

Sheet 2-1.サービス実装
C2: 2-1. サービス実装 | AI2: ※発出時、列非表示
C4: ①ニーズの把握
C5: 1 | D5: サービスの導入を見据え、どのように住民のニーズに合った機能を検討・精査したか
E6: 1：対象となる住民に対して直接ヒアリングを行い、必要な機能等を確認した | AE6: =IF(AI6>0,AI6,"未回答") -> 3 | AI6: 3
E7: 2：対象となる住民に対して直接アンケート調査を行い、必要な機能等を確認した
E8: 3：推進メンバー（庁内関係部署や庁外関係団体含む）で協議を行い、住民のニーズがあるという仮説を立てた
E9: 4：担当部署内で検討し、住民ニーズがあるという仮説を立てた
E10: 5：具体的な住民のニーズの調査・検討はしなかったが、庁内関係者等からサービスの導入要望があった
C12: 2 | D12: サービスの導入を見据え、どのような見込みを立てたか
E13: 1：利用者数等の見込みを立て、収支を試算し、費用対効果の見込みを立てた | AE13: =IF(AI13>0,AI13,"未回答") -> 2 | AI13: 2
E14: 2：利用者数等の見込みを立てた
E15: 3：利用者数等の見込みを立てなかったが、推進メンバー(庁内関係部署や庁外関係者含む)で一定のニーズがあると仮説を立てた
E16: 4：利用者数等の見込みを立てなかったが、担当部署内で一定のニーズがあると仮説を立てた
E17: 5：利用者数等の見込みもニーズの仮説も立てなかった
C19: ②サービスの調達
C20: 3 | D20: サービス実装にあたり、調達行為が発生する事業であるか
D21: ※本設問で「2：そもそも調達行為が発生しない事業である」を選択した場合は、②4～6の設問の回答は不要であるため、③7に進むこと
E22: 1：調達行為が発生する事業である | AE22: =IF(AI22>0,AI22,"未回答") -> 1 | AI22: 1
E23: 2：調達行為が発生しない事業である（例：地域のスマート農業化支援に係る間接補助事業）
C25: 4 | D25: 仕様書にて明確な要求水準を示すために、どのような取組を実施したか
E26: 1：同様のサービスを実装済の他自治体等から情報提供を受けた | AE26: =IF(AI22=2,"―",IF(AI26>0,AI26,"未回答")) -> 3 | AI26: 3
E27: 2：申請計画時に調整した委託事業者を含む複数の事業者から情報提供を受けた
E28: 3：申請計画時に調整した委託事業者から情報提供を受けた
E29: 4：庁内の関係部署や外部専門人材（デジタル専門人材等）から情報提供を受けた
E30: 5：担当部署が独力で仕様書を作成した
C32: 5-1 | D32: 委託事業者※の調達（公募・入札・契約手続）は予定どおりに進んだか
D33: ※補足：複数の委託事業者と契約した場合は、サービスの導入を中心的に担った事業者を想定して回答してください
E34: 1：想定していたスケジュールどおりに（又はスケジュールよりも早く）進んだ | AE34: =IF(AI22=2,"―",IF(AI34>0,AI34,"未回答")) -> 2 | AI34: 2
E35: 2：想定していたスケジュールよりも遅れた
C37: 5-2 | D37: （設問5-1で［2：想定していたスケジュールよりも遅れた］を選択した場合）
D38: 調達（公募・入札・契約手続）が想定していたスケジュールよりも遅れた理由をすべて選択してください（複数回答）
D39: [f:その他]を選択した場合は、下段の[その他の遅延理由]欄に記入してください
E40: a：担当部署の人員不足（他の業務でひっ迫していた等） | AE40: =IF(AI22=2,"―",IF(AI34=1,"―",IF(OR(AI40:AI45)=TRUE,CONCATENATE(AG40,AG41,AG42,AG43,AG44,AG45),"未回答"))) -> a,d | AG40: =IF(AI40=TRUE,IF(OR(AI41:AI45)=TRUE,"a,","a"),"") -> a, | AI40: TRUE
E41: b：担当者の知見不足（人事異動等） | AG41: =IF(AI41=TRUE,IF(OR(AI42:AI45)=TRUE,"b,","b"),"") | AI41: FALSE
E42: c：庁内調整の難航（庁内にて合意形成が取れなかった等） | AG42: =IF(AI42=TRUE,IF(OR(AI43:AI45)=TRUE,"c,","c"),"") | AI42: FALSE
E43: d：調達手続の難航（仕様が固まらなかった等） | AG43: =IF(AI43=TRUE,IF(OR(AI44:AI45)=TRUE,"d,","d"),"") -> d | AI43: TRUE
E44: e：見積書取得の難航（複数の委託事業者から見積書が集まらなかった等） | AG44: =IF(AI44=TRUE,IF(AI45=TRUE,"e,","e"),"") | AI44: FALSE
E45: f：その他（遅延した理由を下段に記入） | AG45: =IF(AI45=TRUE,"f","") | AI45: FALSE
D46: その他の遅延理由 | AE46: =IF(AI45=FALSE,"―",IF(D47="","未回答","回答済")) -> ―
AI47: =D47 -> 0
...

Sheet 2-2.サービス運用
C2: 2-2. サービス運用 | AI2: ※発出時、列非表示
C4: ①利用者等からの意見収集
C5: 1 | D5: サービス利用者に対する意見収集（使いづらくないか等）をどの程度実施していたか
E6: 1： | F6: サービス利用者である住民に対して直接ヒアリングを行い、サービス改善の必要性について確認していた | AE6: =IF(AI6>0,AI6,"未回答") -> 3 | AI6: 3
E7: 2： | F7: サービス利用者である住民に対して直接アンケート調査を行い、サービス改善の必要性について確認していた
E8: 3： | F8: 推進メンバー（庁内関係部署や庁外関係団体含む）で協議を行い、住民のニーズについて仮説を立てていた
E9: 4： | F9: 事業担当課内で検討し、住民ニーズについて仮説を立てていた
E10: 5： | F10: 具体的な住民のニーズの調査・検討はしていないが、庁内関係者等からサービスニーズに関する情報共有があった
C12: 2 | D12: サービス運用担当者※に対する意見収集（運用しづらくないか等）をどの程度実施していたか
D13: ※サービス運用担当者は、実装サービスを管理・利用する庁内の担当者を想定
E14: 1： | F14: サービス運用担当者に対して直接ヒアリングを行い、サービス改善の必要性について確認していた | AE14: =IF(AI14>0,AI14,"未回答") -> 3 | AI14: 3
E15: 2： | F15: サービス運用担当者に対して直接アンケート調査を行い、サービス改善の必要性について確認していた
E16: 3： | F16: 庁内関係者（事業担当課や関連部課）で協議を行い、サービス改善の必要性があると仮説立てていた
E17: 4： | F17: 事業担当課内で検討し、サービス改善の必要性があると仮説立てていた
E18: 5： | F18: 具体的な担当者へのニーズの調査・検討はしていなかった
C20: 3 | D20: 委託事業者※目線で得られた意見収集（要望が来ていないか等）をどの程度実施していたか
D21: ※委託事業者は、実装サービスを提供している企業等を想定
E22: 1： | F22: 庁内関係者と委託事業者間で定期的な意見交換の場を設けていた | AE22: =IF(AI22>0,AI22,"未回答") -> 2 | AI22: 2
E23: 2： | F23: 庁内関係者と委託事業者間で必要に応じて意見交換の場を設けていた
E24: 3： | F24: 事業担当課にて報告様式を作成し、定期的に提出するよう促していた
E25: 4： | F25: 事業担当課にて報告様式を作成し、必要に応じて提出するよう促していた
E26: 5： | F26: 委託事業者に対する意見収集は行っていなかった
E27: 6： | F27: サービスの性質上、委託事業者が存在しない事業である（例：地域のスマート農業化支援に係る間接補助事業）
C29: ②サービス運用の工夫や改善点
C30: 4 | D30: サービス向上のために、どの程度サービス改善を実施したか
E31: 1：改善の取組を実施して、把握した課題（利用者等からの意見）を解消した | AE31: =IF(AI31>0,AI31,"未回答") -> 2 | AI31: 2
E32: 2：改善に向けて取組を実施している
E33: 3：改善に向けた取組の計画を策定した
E34: 4：課題（利用者等からの意見）は把握したが、改善の方策が定まっていない
E35: 5：課題（利用者等からの意見）の把握には至っていない、または事業評価を実施していない
C37: 5 | D37: サービス運用について、貴団体が実際に取り組んだ内容や工夫（サービス改善や機能の追加等）を具体的に記入してください
D38: 特に、以前の取組内容を踏まえて、追加で実施したものがあれば具体的にその経緯も含めて記入してください
D39: また、一般財源（予算）や事業収入（外部資金）を用いてサービス改善を行った場合、具体的にどのような財源を用いて、
D40: どのような取組を行ったのか、記入してください
D41: 例： | E41: サービス実装後に、住民に対して使用感等についてヒアリングを行い、改善点を洗い出した。また、今年度は予算を活用して、質問が多かった点に関して「利用マニュアル動画」を作成し、本市のホームページに掲載することで問合せ数を削減できるよう努め、サービスの提供環境を改善させた。こうした利用者満足度を高める取り組みを行ったことにより、KPIを達成することができた。
D44: サービス実装後は利用団体からのヒヤリングを行ったが期間が短く、多くの意見収集とはならなかった。 また、運用に際しては、試験運用期間を用いて、システム運用担当者から意見を収集し、本町における施設予約の現状と導入したシステムとのすりあわせを一定程度行ったため、予算を用いるようなサービス改善や機能の追加等は予定していないものの、引き続き、利用者を含めシステム運用担当者からも意見を収集し、利便性向上を図る。 | AE44: =IF(D44="","未回答",IF(LEN(D44)<200,LEN(D44)&"字 (字数 不足)",LEN(D44)&"字")) -> 201字 | AI44: =D44 -> サービス実装後は利用団体からのヒヤリングを行ったが期間が短く、多くの意見収集とはならなかった。 また、運用に際しては、試験運用期間を用いて、システム運用担当者から意見を収集し、本町における施設予約の現状と導入したシステムとのすりあわせを一定程度行ったため、予算を用いるようなサービス改善や機能の追加等は予定していないものの、引き続き、利用者を含めシステム運用担当者からも意見を収集し、利便性向上を図る。
C51: 6 | D51: サービスを実装・運用する上で、課題に感じたことをすべて選択してください（複数回答）
E52: a：サービス利用者のニーズ把握（使い勝手、改善要望の把握） | AE52: =IF(AND(AI58=TRUE,OR(AI52:AI57)=TRUE),"入力不備",IF(OR(AI52:AI58)=TRUE,CONCATENATE(AG52,AG53,AG54,AG55,AG56,AG57,AG58),"未回答")) -> a,d | AG52: =IF(AI52=TRUE,IF(OR(AI53:AI58)=TRUE,"a,","a"),"") -> a, | AI52: TRUE
E53: b：サービス運用・拡大に向けた関係者との連携強化 | AG53: =IF(AI53=TRUE,IF(OR(AI54:AI58)=TRUE,"b,","b"),"") | AI53: FALSE
E54: c：想定していた仕様とのかい離への対応（仕様書で想定していた通りのサービス実装ができなかった場合） | AG54: =IF(AI54=TRUE,IF(OR(AI55:AI58)=TRUE,"c,","c"),"") | AI54: FALSE
...

Sheet 3.周知・広報
C2: 3. 周知・広報 | AI2: ※発出時、列非表示
C4: ①情報発信の方法
C5: 1 | D5: サービス実装後に、利用拡大に向けて、どのように情報発信方法を見直していたか | AG5: =IF(AI5=TRUE,IF(OR(#REF!)=TRUE,"a,","a"),"")
D6: （何らかの理由でサービスの実装が遅れており、情報発信をできていない場合には、5を選択してください）
E7: 1： | F7: 現在の利用者層を把握したうえで、改めて訴求すべき利用者層を明確化して情報発信方法を適切に見直した | AE7: =IF(AI7>0,AI7,"未回答") -> 1 | AI7: 1
E8: 2： | F8: 現在の利用者層を把握したうえで、改めて訴求すべき利用者層を明確化しているが、情報発信方法は見直さなかった
E9: 3： | F9: 利用拡大に向けて訴求すべき利用者層は明確化していないものの、情報発信方法は適宜見直した
E10: 4： | F10: 現在の利用者層を把握できていないものの、情報発信方法は適宜見直した
E11: 5： | F11: 現在の利用者層を把握できておらず、情報発信方法も見直さなかった
C13: 2 | D13: 周知・広報活動に関与した関係者をすべて選択してください（複数回答） | AG13: =IF(AI13=TRUE,IF(OR(AI14:AI19)=TRUE,"a,","a"),"") -> a, | AI13: TRUE
D14: [f:その他]を選択した場合は、下段の[その他の関係者]欄に記入してください | AG14: =IF(AI14=TRUE,IF(OR(AI15:AI19)=TRUE,"b,","b"),"") | AI14: FALSE
E15: a：事業担当課 | K15: b：広報担当課 | V15: c：地域のステークホルダー | AE15: =IF(AND(AI19=TRUE,OR(AI13:AI18)=TRUE),"入力不備",IF(OR(AI13:AI19)=TRUE,CONCATENATE(AG13,AG14,AG15,AG16,AG17,AG18,AG19),"未回答")) -> a,c | AG15: =IF(AI15=TRUE,IF(OR(AI16:AI19)=TRUE,"c,","c"),"") -> c | AI15: TRUE
E16: d：委託事業者 | K16: e：プロモーション会社（広告を外注した場合） | V16: f：その他（関係者を下段に記入） | AG16: =IF(AI16=TRUE,IF(OR(AI17:AI19)=TRUE,"d,","d"),"") | AI16: FALSE
E17: g：周知・広報しなかった | AG17: =IF(AI17=TRUE,IF(OR(AI18:AI19)=TRUE,"e,","e"),"") | AI17: FALSE
D18: その他の関係者 | AE18: =IF(AI18=FALSE,"―",IF(D19="","未回答","回答済")) -> ― | AG18: =IF(AI18=TRUE,IF(AI19=TRUE,"f,","f"),"") | AI18: FALSE
AG19: =IF(AI19=TRUE,"g","") | AI19: FALSE
AI20: =D19 -> 0
C21: 3-1 | D21: 周知・広報活動に用いた情報発信方法を選択してください
D22: [f:その他]を選択した場合は、下段の[その他の情報発信方法]欄に記入してください
E23: a：サービス体験を含む説明会 | AE23: =IF(AND(AI29=TRUE,OR(AI23:AI28)=TRUE),"入力不備",IF(OR(AI23:AI29)=TRUE,CONCATENATE(AG23,AG24,AG25,AG26,AG27,AG28,AG29),"未回答")) -> b,f | AG23: =IF(AI23=TRUE,IF(OR(AI24:AI29)=TRUE,"a,","a"),"") | AI23: FALSE
E24: b：チラシ・ポスターの設置または配布 | AG24: =IF(AI24=TRUE,IF(OR(AI25:AI29)=TRUE,"b,","b"),"") -> b, | AI24: TRUE
E25: c：地方公共団体HP | AG25: =IF(AI25=TRUE,IF(OR(AI26:AI29)=TRUE,"c,","c"),"") | AI25: FALSE
E26: d：LINEやFacebook等の公式SNS | AG26: =IF(AI26=TRUE,IF(OR(AI27:AI29)=TRUE,"d,","d"),"") | AI26: FALSE
E27: e：広報誌 | AG27: =IF(AI27=TRUE,IF(OR(AI28:AI29)=TRUE,"e,","e"),"") | AI27: FALSE
E28: f：その他（具体的な情報発信媒体を下段に記入） | AG28: =IF(AI28=TRUE,IF(AI29=TRUE,"f,","f"),"") -> f | AI28: TRUE
E29: g：発信しなかった | AG29: =IF(AI29=TRUE,"g","") | AI29: FALSE
D30: その他の情報発信媒体 | AE30: =IF(AI28=FALSE,"―",IF(D31="","未回答","回答済")) -> 回答済
D31: 定期定期に施設の利用実績のある団体等に対し説明・周知を文書等にて行った | AI31: =D31 -> 定期定期に施設の利用実績のある団体等に対し説明・周知を文書等にて行った
C33: 3-2 | D33: 設問3-1で回答した周知・広報活動のうち、最も効果的だった情報発信方法について選択してください
E34: 1： | F34: サービス体験会を含む説明会 | AE34: =IF(AI34>0,AI34,"未回答") -> 6 | AI34: 6
E35: 2： | F35: チラシ・ポスターの設置または配付
E36: 3： | F36: 地方公共団体HP
E37: 4： | F37: LINEやFacebook等の公式SNS
E38: 5： | F38: 広報誌
E39: 6： | F39: その他
E40: 7： | F40: 発信しなかった
C42: ②周知・広報活動の工夫や改善点
C43: 4 | D43: 周知・広報活動について、貴団体が実際に取り組んだ内容（情報発信内容等）や工夫、その効果を具体的に記入してください
D44: 特に、事業2年目以降の場合には、過年度の取組内容を踏まえて、追加で実施したものがあれば具体的にその経緯も含めて記入してください
D45: また、一般財源（予算）や事業収入（外部資金）を用いてサービス改善を行った場合、具体的にどのような財源を用いて、
...

Sheet 4.評価・改善
C2: 4. 評価・改善 | AI2: ※発出時、列非表示
C4: ①事業の評価
C5: 1 | D5: 評価を行うために収集した情報を、すべて選択してください（複数回答）
D6: [f：その他]を選択した場合は、下段の[その他の情報]欄を記入してください | AG6: =IF(AI6=TRUE,IF(OR(AI7:AI12)=TRUE,"a,","a"),"") -> a, | AI6: TRUE
E7: a： | F7: 利用状況（利用者数・アプリのダウンロード数等） | R7: d： | S7: 地域のステークホルダーの満足度・意見 | AE7: =IF(AND(AI12=TRUE,OR(AI6:AI11)=TRUE),"入力不備",IF(OR(AI6:AI12)=TRUE,CONCATENATE(AG6,AG7,AG8,AG9,AG10,AG11,AG12),"未回答")) -> a,c,d | AG7: =IF(AI7=TRUE,IF(OR(AI8:AI12)=TRUE,"b,","b"),"") | AI7: FALSE
E8: b： | F8: 利用者満足度 | R8: e： | S8: 収支状況 | AG8: =IF(AI8=TRUE,IF(OR(AI9:AI12)=TRUE,"c,","c"),"") -> c, | AI8: TRUE
E9: c： | F9: 利用者（住民等）の苦情数やシステムエラーの | R9: f： | S9: その他（情報を下段に記入） | AG9: =IF(AI9=TRUE,IF(OR(AI10:AI12)=TRUE,"d,","d"),"") -> d | AI9: TRUE
F10: 発生件数（事業のリスク把握の観点） | R10: g： | S10: いずれも該当しない | AG10: =IF(AI10=TRUE,IF(OR(AI11:AI12)=TRUE,"e,","e"),"") | AI10: FALSE
D11: その他の情報 | AE11: =IF(AI11=FALSE,"―",IF(D12="","未回答","回答済")) -> ― | AG11: =IF(AI11=TRUE,IF(AI12=TRUE,"f,","f"),"") | AI11: FALSE
AG12: =IF(AI12=TRUE,"g","") | AI12: FALSE
AI13: =D12 -> 0
C14: 2 | D14: 各評価関係者を交えた評価の頻度について、最も当てはまるものを選択してください
D15: なお、記載の評価関係者がそもそも存在しない場合は、「評価を実施しなかった」を選択ください
D16: ※事業担当課以外の課室等の例：行政評価担当課等
D17: ※外部有識者の例：自治体DXに関する経験や知見を有する有識者や既存の評価体制に参画している有識者等
O18: ①月に 1回程度 実施 | R18: ②四半期に 1回程度 実施 | U18: ③半年に 1回程度 実施 | X18: ④必要な 場合のみ 実施 | AA18: ⑤評価を 実施 しなかった
D19: a：事業を担う原課内での評価 | AE19: =IF(AI19>0,AI19,"未回答") -> 1 | AI19: 1
D20: b：事業担当課以外の課室等を交えた評価 | AE20: =IF(AI20>0,AI20,"未回答") -> 2 | AI20: 2
D21: c：地域のステークホルダーを交えた評価 | AE21: =IF(AI21>0,AI21,"未回答") -> 3 | AI21: 3
D22: d：委託事業者を交えた評価 | AE22: =IF(AI22>0,AI22,"未回答") -> 4 | AI22: 4
D23: e：外部有識者を交えた評価 | AE23: =IF(AI23>0,AI23,"未回答") -> 4 | AI23: 4
C25: ②事業の改善
C26: 3 | D26: 評価を踏まえた改善状況について、当てはまるものを選択してください
E27: 1：改善の取組を実施して、把握した課題を解消した | AE27: =IF(AI27>0,AI27,"未回答") -> 2 | AI27: 2
E28: 2：改善に向け取組を実施している
E29: 3：改善に向けた取組の計画を策定した
E30: 4：事業評価を行い課題を把握したが、改善の方策が定まっていない
E31: 5：事業評価を実施したものの、課題の把握には至っていない
C33: 4 | D33: =IF('0.基礎情報'!$H$12="","「0.基礎情報」のシートで交付金予算年度を選択してから、ご回答をお願いいたします。交付金予算年度をご選択いただくと、設問が表示されます。",IF('0.基礎情報'!$H$12='【発出時非表示】プルダウンリスト'!$B$6,"「新しい地方経済・生活環境創生交付金（デジタル実装型TYPE1）」では、各地方公共団体において、交付金の具体的使途（実施計画上の","本問は回答不要です")) -> 「新しい地方経済・生活環境創生交付金（デジタル実装型TYPE1）」では、各地方公共団体において、交付金の具体的使途（実施計画上の
D34: =IF('0.基礎情報'!$H$12="","",IF('0.基礎情報'!$H$12='【発出時非表示】プルダウンリスト'!$B$6,"経費内訳に記載された内容）や実施体制、毎年度の効果検証の結果について、地方公共団体のウェブサイトにおいて公表することが求められている","")) -> 経費内訳に記載された内容）や実施体制、毎年度の効果検証の結果について、地方公共団体のウェブサイトにおいて公表することが求められている
D35: =IF('0.基礎情報'!$H$12="","",IF('0.基礎情報'!$H$12='【発出時非表示】プルダウンリスト'!$B$6,"ついては、現在の対応状況について選択するとともに、公表している場合は、公表ウェブページのURLを記入ください","")) -> ついては、現在の対応状況について選択するとともに、公表している場合は、公表ウェブページのURLを記入ください
K36: ①公表している | P36: ②公表準備中である | U36: 公表ウェブページのURL
D37: a：交付金の具体的使途 | AE37: =IF('0.基礎情報'!$H$12="","―",IF('0.基礎情報'!$H$12='【発出時非表示】プルダウンリスト'!$B$6,IF(AI37=2,AI37,IF(AND(AI37=1,U37<>""),AI37,"未回答")),"―")) -> 2 | AI37: 2
D38: b：実施体制 | AE38: =IF('0.基礎情報'!$H$12="","―",IF('0.基礎情報'!$H$12='【発出時非表示】プルダウンリスト'!$B$6,IF(AI38=2,AI38,IF(AND(AI38=1,U38<>""),AI38,"未回答")),"―")) -> 2 | AI38: 2
D39: c：毎年度の効果検証の結果 | AE39: =IF('0.基礎情報'!$H$12="","―",IF('0.基礎情報'!$H$12='【発出時非表示】プルダウンリスト'!$B$6,IF(AI39=2,AI39,IF(AND(AI39=1,U39<>""),AI39,"未回答")),"―")) -> 2 | AI39: 2
C41: ③評価・改善活動の工夫や改善点
C42: 5 | D42: 事業評価について、貴団体が実際に取り組んだ内容と工夫を具体的に記載してください
D43: 特に、事業2年目以降の場合には、過年度の取組内容を踏まえて、追加で実施したものがあれば具体的にその経緯も含めて記入してください
D44: 例： | E44: =IF('0.基礎情報'!$H$12="",'【発出時非表示】交付金予算年度別の文章'!$F$3,IF('0.基礎情報'!$H$12='【発出時非表示】プルダウンリスト'!$B$4,'【発出時非表示】交付金予算年度別の文章'!$F$4,IF('0.基礎情報'!$H$12='【発出時非表示】プルダウンリスト'!$B$5,'【発出時非表示】交付金予算年度別の文章'!$F$5,'【発出時非表示】交付金予算年度別の文章'!$F$6))) -> 事業への客観的な評価と改善に向けた意見を聴取するため、大学教授や外部企業が参画する「外部評価委員会」を設置した。 住民モニターからのモニタリング報告を受けるとともに、本市のホームページにサービスの改善意見を募集することで、利用者の要望を即座にサービスに反映させる仕組みを設けることでPDCAサイクルを迅速に回すことができた。
D48: 本システムの利用者は社会教育施設の利用者であり、特定が容易であるため、直接ヒヤリングを行うことが可能であり、いただいた評価や要望等を今後の改善策等に反映しやすいため、予算を講じずに対策できる部分については随時、工夫をしつつ取り組んでいる。また、今後は本町のスポーツ振興における諮問機関である「倶知安町スポーツ推進審議会」への報告などにより、フィードバックを行い、利用者の声とあわせて事業の満足度上昇に向けた改善に繋げる。 | AE48: =IF(D48="","未回答",IF(LEN(D48)<200,LEN(D48)&"字 (字数 不足)",LEN(D48)&"字")) -> 210字 | AI48: =D48 -> 本システムの利用者は社会教育施設の利用者であり、特定が容易であるため、直接ヒヤリングを行うことが可能であり、いただいた評価や要望等を今後の改善策等に反映しやすいため、予算を講じずに対策できる部分については随時、工夫をしつつ取り組んでいる。また、今後は本町のスポーツ振興における諮問機関である「倶知安町スポーツ推進審議会」への報告などにより、フィードバックを行い、利用者の声とあわせて事業の満足度上昇に向けた改善に繋げる。
...

Sheet 5.最終年度の振り返り
B2: サービスごとに、3年間の振り返りをご記載ください。 | X2: ※発出時、列非表示
B4: No.
B5: ① | C5: ＜事業評価＞
C6: 3年間を通じた目標達成状況についてお伺いします。 | X6: =I8 -> 0
F8: KPI達成個数割合 | I8: =IFERROR(Q8/N8,"") -> 0 | L8: （KPI設定個数 | N8: =15-COUNTIF(E16:H45,"―") -> 5 | P8: KPI達成個数 | Q8: =COUNTIF(J16:J45,"達成")+COUNTIF(J16:J45,"大幅に達成") -> 0 | R8: ） | X8: =N8 -> 5
C10: 1 | D10: 下記のKPIの中で「達成状況」が「大幅に達成」、「未達成」、「未計測」と表示されたKPIについて、3年間の事業実施状況を踏まえたうえで、その要因を改めて記載すること。 | X10: =Q8 -> 0
D11: ※自治体側でコントロールが難しい「外部要因」と、自治体側である程度制御可能な「内部要因」に分けて、具体的に記載してください。
D12: ※今年度だけではなく、これまで3年間での取組も含めて、要因として考えられることを記載してください。
D13: ※なお、3年目実績値が未計測の場合には、直近で計測した年度の実績値を用いて、3年目KPI目標の達成状況を判定しています。3年間未計測の場合は「未計測」と表示されます。
E15: KPIの名称 | J15: 達成状況 | L15: 大幅に達成・未達成・未計測の理由
D16: 1 | E16: =IF('0.基礎情報'!C170=0,"―",'0.基礎情報'!C170) -> システム経由の予約件数割合 | J16: =IF(E16="―","―",IF(X16="未計測","未計測",IF(X16="未達成","未達成",IF(X16="達成",IF(AND(ISNUMBER(X17),X17>=1.4),"大幅に達成","達成"),"判定不能")))) -> 判定不能 | L16: 外部要因 | U16: =IF(J16="―","―",IF(J16="達成","―",IF(M16="","未回答",LEN(M16)&"字"))) -> 未回答 | X16: =IF('0.基礎情報'!BE176="未計測",IF('0.基礎情報'!BF176="未計測",IF('0.基礎情報'!BG176="未計測","未計測",'0.基礎情報'!AX172),'0.基礎情報'!AX174),'0.基礎情報'!AX176)
L17: 内部要因 | U17: =IF(J16="―","―",IF(J16="達成","―",IF(M17="","未回答",LEN(M17)&"字"))) -> 未回答 | X17: =IF('0.基礎情報'!BE176="未計測",IF('0.基礎情報'!BF176="未計測",IF('0.基礎情報'!BG176="未計測","未計測",'0.基礎情報'!BG176),'0.基礎情報'!BF176),'0.基礎情報'!BE176)
D18: 2 | E18: =IF('0.基礎情報'!C218=0,"―",'0.基礎情報'!C218) -> システム利用登録済みの利用者数 | J18: =IF(E18="―","―",IF(X18="未計測","未計測",IF(X18="未達成","未達成",IF(X18="達成",IF(AND(ISNUMBER(X19),X19>=1.4),"大幅に達成","達成"),"判定不能")))) -> 判定不能 | L18: 外部要因 | U18: =IF(J18="―","―",IF(J18="達成","―",IF(M18="","未回答",LEN(M18)&"字"))) -> 未回答 | X18: =IF('0.基礎情報'!BE224="未計測",IF('0.基礎情報'!BF224="未計測",IF('0.基礎情報'!BG224="未計測","未計測",'0.基礎情報'!AX220),'0.基礎情報'!AX222),'0.基礎情報'!AX224)
L19: 内部要因 | U19: =IF(J18="―","―",IF(J18="達成","―",IF(M19="","未回答",LEN(M19)&"字"))) -> 未回答 | X19: =IF('0.基礎情報'!BE224="未計測",IF('0.基礎情報'!BF224="未計測",IF('0.基礎情報'!BG224="未計測","未計測",'0.基礎情報'!BG224),'0.基礎情報'!BF224),'0.基礎情報'!BE224)
D20: 3 | E20: =IF('0.基礎情報'!C266=0,"―",'0.基礎情報'!C266) -> スマートロックの整備施設件数 | J20: =IF(E20="―","―",IF(X20="未計測","未計測",IF(X20="未達成","未達成",IF(X20="達成",IF(AND(ISNUMBER(X21),X21>=1.4),"大幅に達成","達成"),"判定不能")))) -> 判定不能 | L20: 外部要因 | U20: =IF(J20="―","―",IF(J20="達成","―",IF(M20="","未回答",LEN(M20)&"字"))) -> 未回答 | X20: =IF('0.基礎情報'!BE272="未計測",IF('0.基礎情報'!BF272="未計測",IF('0.基礎情報'!BG272="未計測","未計測",'0.基礎情報'!AX268),'0.基礎情報'!AX270),'0.基礎情報'!AX272)
L21: 内部要因 | U21: =IF(J20="―","―",IF(J20="達成","―",IF(M21="","未回答",LEN(M21)&"字"))) -> 未回答 | X21: =IF('0.基礎情報'!BE272="未計測",IF('0.基礎情報'!BF272="未計測",IF('0.基礎情報'!BG272="未計測","未計測",'0.基礎情報'!BG272),'0.基礎情報'!BF272),'0.基礎情報'!BE272)
D22: 4 | E22: =IF('0.基礎情報'!C314=0,"―",'0.基礎情報'!C314) -> システム導入に伴うアナログ対応時間の短縮効果 | J22: =IF(E22="―","―",IF(X22="未計測","未計測",IF(X22="未達成","未達成",IF(X22="達成",IF(AND(ISNUMBER(X23),X23>=1.4),"大幅に達成","達成"),"判定不能")))) -> 判定不能 | L22: 外部要因 | U22: =IF(J22="―","―",IF(J22="達成","―",IF(M22="","未回答",LEN(M22)&"字"))) -> 未回答 | X22: =IF('0.基礎情報'!BE320="未計測",IF('0.基礎情報'!BF320="未計測",IF('0.基礎情報'!BG320="未計測","未計測",'0.基礎情報'!AX316),'0.基礎情報'!AX318),'0.基礎情報'!AX320)
L23: 内部要因 | U23: =IF(J22="―","―",IF(J22="達成","―",IF(M23="","未回答",LEN(M23)&"字"))) -> 未回答 | X23: =IF('0.基礎情報'!BE320="未計測",IF('0.基礎情報'!BF320="未計測",IF('0.基礎情報'!BG320="未計測","未計測",'0.基礎情報'!BG320),'0.基礎情報'!BF320),'0.基礎情報'!BE320)
D24: 5 | E24: =IF('0.基礎情報'!C362=0,"―",'0.基礎情報'!C362) -> システム導入に伴い利便性向上を実感した利用者の割合 | J24: =IF(E24="―","―",IF(X24="未計測","未計測",IF(X24="未達成","未達成",IF(X24="達成",IF(AND(ISNUMBER(X25),X25>=1.4),"大幅に達成","達成"),"判定不能")))) -> 判定不能 | L24: 外部要因 | U24: =IF(J24="―","―",IF(J24="達成","―",IF(M24="","未回答",LEN(M24)&"字"))) -> 未回答 | X24: =IF('0.基礎情報'!BE368="未計測",IF('0.基礎情報'!BF368="未計測",IF('0.基礎情報'!BG368="未計測","未計測",'0.基礎情報'!AX364),'0.基礎情報'!AX366),'0.基礎情報'!AX368)
L25: 内部要因 | U25: =IF(J24="―","―",IF(J24="達成","―",IF(M25="","未回答",LEN(M25)&"字"))) -> 未回答 | X25: =IF('0.基礎情報'!BE368="未計測",IF('0.基礎情報'!BF368="未計測",IF('0.基礎情報'!BG368="未計測","未計測",'0.基礎情報'!BG368),'0.基礎情報'!BF368),'0.基礎情報'!BE368)
D26: 6 | E26: =IF('0.基礎情報'!C410=0,"―",'0.基礎情報'!C410) -> ― | J26: =IF(E26="―","―",IF(X26="未計測","未計測",IF(X26="未達成","未達成",IF(X26="達成",IF(AND(ISNUMBER(X27),X27>=1.4),"大幅に達成","達成"),"判定不能")))) -> ― | L26: 外部要因 | U26: =IF(J26="―","―",IF(J26="達成","―",IF(M26="","未回答",LEN(M26)&"字"))) -> ― | X26: =IF('0.基礎情報'!BE416="未計測",IF('0.基礎情報'!BF416="未計測",IF('0.基礎情報'!BG416="未計測","未計測",'0.基礎情報'!AX412),'0.基礎情報'!AX414),'0.基礎情報'!AX416)
L27: 内部要因 | U27: =IF(J26="―","―",IF(J26="達成","―",IF(M27="","未回答",LEN(M27)&"字"))) -> ― | X27: =IF('0.基礎情報'!BE416="未計測",IF('0.基礎情報'!BF416="未計測",IF('0.基礎情報'!BG416="未計測","未計測",'0.基礎情報'!BG416),'0.基礎情報'!BF416),'0.基礎情報'!BE416)
D28: 7 | E28: =IF('0.基礎情報'!C458=0,"―",'0.基礎情報'!C458) -> ― | J28: =IF(E28="―","―",IF(X28="未計測","未計測",IF(X28="未達成","未達成",IF(X28="達成",IF(AND(ISNUMBER(X29),X29>=1.4),"大幅に達成","達成"),"判定不能")))) -> ― | L28: 外部要因 | U28: =IF(J28="―","―",IF(J28="達成","―",IF(M28="","未回答",LEN(M28)&"字"))) -> ― | X28: =IF('0.基礎情報'!BE464="未計測",IF('0.基礎情報'!BF464="未計測",IF('0.基礎情報'!BG464="未計測","未計測",'0.基礎情報'!AX460),'0.基礎情報'!AX462),'0.基礎情報'!AX464)
L29: 内部要因 | U29: =IF(J28="―","―",IF(J28="達成","―",IF(M29="","未回答",LEN(M29)&"字"))) -> ― | X29: =IF('0.基礎情報'!BE464="未計測",IF('0.基礎情報'!BF464="未計測",IF('0.基礎情報'!BG464="未計測","未計測",'0.基礎情報'!BG464),'0.基礎情報'!BF464),'0.基礎情報'!BE464)
D30: 8 | E30: =IF('0.基礎情報'!C506=0,"―",'0.基礎情報'!C506) -> ― | J30: =IF(E30="―","―",IF(X30="未計測","未計測",IF(X30="未達成","未達成",IF(X30="達成",IF(AND(ISNUMBER(X31),X31>=1.4),"大幅に達成","達成"),"判定不能")))) -> ― | L30: 外部要因 | U30: =IF(J30="―","―",IF(J30="達成","―",IF(M30="","未回答",LEN(M30)&"字"))) -> ― | X30: =IF('0.基礎情報'!BE512="未計測",IF('0.基礎情報'!BF512="未計測",IF('0.基礎情報'!BG512="未計測","未計測",'0.基礎情報'!AX508),'0.基礎情報'!AX510),'0.基礎情報'!AX512)
L31: 内部要因 | U31: =IF(J30="―","―",IF(J30="達成","―",IF(M31="","未回答",LEN(M31)&"字"))) -> ― | X31: =IF('0.基礎情報'!BE512="未計測",IF('0.基礎情報'!BF512="未計測",IF('0.基礎情報'!BG512="未計測","未計測",'0.基礎情報'!BG512),'0.基礎情報'!BF512),'0.基礎情報'!BE512)
D32: 9 | E32: =IF('0.基礎情報'!C554=0,"―",'0.基礎情報'!C554) -> ― | J32: =IF(E32="―","―",IF(X32="未計測","未計測",IF(X32="未達成","未達成",IF(X32="達成",IF(AND(ISNUMBER(X33),X33>=1.4),"大幅に達成","達成"),"判定不能")))) -> ― | L32: 外部要因 | U32: =IF(J32="―","―",IF(J32="達成","―",IF(M32="","未回答",LEN(M32)&"字"))) -> ― | X32: =IF('0.基礎情報'!BE560="未計測",IF('0.基礎情報'!BF560="未計測",IF('0.基礎情報'!BG560="未計測","未計測",'0.基礎情報'!AX556),'0.基礎情報'!AX558),'0.基礎情報'!AX560)
L33: 内部要因 | U33: =IF(J32="―","―",IF(J32="達成","―",IF(M33="","未回答",LEN(M33)&"字"))) -> ― | X33: =IF('0.基礎情報'!BE560="未計測",IF('0.基礎情報'!BF560="未計測",IF('0.基礎情報'!BG560="未計測","未計測",'0.基礎情報'!BG560),'0.基礎情報'!BF560),'0.基礎情報'!BE560)
D34: 10 | E34: =IF('0.基礎情報'!C602=0,"―",'0.基礎情報'!C602) -> ― | J34: =IF(E34="―","―",IF(X34="未計測","未計測",IF(X34="未達成","未達成",IF(X34="達成",IF(AND(ISNUMBER(X35),X35>=1.4),"大幅に達成","達成"),"判定不能")))) -> ― | L34: 外部要因 | U34: =IF(J34="―","―",IF(J34="達成","―",IF(M34="","未回答",LEN(M34)&"字"))) -> ― | X34: =IF('0.基礎情報'!BE608="未計測",IF('0.基礎情報'!BF608="未計測",IF('0.基礎情報'!BG608="未計測","未計測",'0.基礎情報'!AX604),'0.基礎情報'!AX606),'0.基礎情報'!AX608)
L35: 内部要因 | U35: =IF(J34="―","―",IF(J34="達成","―",IF(M35="","未回答",LEN(M35)&"字"))) -> ― | X35: =IF('0.基礎情報'!BE608="未計測",IF('0.基礎情報'!BF608="未計測",IF('0.基礎情報'!BG608="未計測","未計測",'0.基礎情報'!BG608),'0.基礎情報'!BF608),'0.基礎情報'!BE608)
D36: 11 | E36: =IF('0.基礎情報'!C650=0,"―",'0.基礎情報'!C650) -> ― | J36: =IF(E36="―","―",IF(X36="未計測","未計測",IF(X36="未達成","未達成",IF(X36="達成",IF(AND(ISNUMBER(X37),X37>=1.4),"大幅に達成","達成"),"判定不能")))) -> ― | L36: 外部要因 | U36: =IF(J36="―","―",IF(J36="達成","―",IF(M36="","未回答",LEN(M36)&"字"))) -> ― | X36: =IF('0.基礎情報'!BE656="未計測",IF('0.基礎情報'!BF656="未計測",IF('0.基礎情報'!BG656="未計測","未計測",'0.基礎情報'!AX652),'0.基礎情報'!AX654),'0.基礎情報'!AX656)
L37: 内部要因 | U37: =IF(J36="―","―",IF(J36="達成","―",IF(M37="","未回答",LEN(M37)&"字"))) -> ― | X37: =IF('0.基礎情報'!BE656="未計測",IF('0.基礎情報'!BF656="未計測",IF('0.基礎情報'!BG656="未計測","未計測",'0.基礎情報'!BG656),'0.基礎情報'!BF656),'0.基礎情報'!BE656)
D38: 12 | E38: =IF('0.基礎情報'!C698=0,"―",'0.基礎情報'!C698) -> ― | J38: =IF(E38="―","―",IF(X38="未計測","未計測",IF(X38="未達成","未達成",IF(X38="達成",IF(AND(ISNUMBER(X39),X39>=1.4),"大幅に達成","達成"),"判定不能")))) -> ― | L38: 外部要因 | U38: =IF(J38="―","―",IF(J38="達成","―",IF(M38="","未回答",LEN(M38)&"字"))) -> ― | X38: =IF('0.基礎情報'!BE704="未計測",IF('0.基礎情報'!BF704="未計測",IF('0.基礎情報'!BG704="未計測","未計測",'0.基礎情報'!AX700),'0.基礎情報'!AX702),'0.基礎情報'!AX704)
L39: 内部要因 | U39: =IF(J38="―","―",IF(J38="達成","―",IF(M39="","未回答",LEN(M39)&"字"))) -> ― | X39: =IF('0.基礎情報'!BE704="未計測",IF('0.基礎情報'!BF704="未計測",IF('0.基礎情報'!BG704="未計測","未計測",'0.基礎情報'!BG704),'0.基礎情報'!BF704),'0.基礎情報'!BE704)
D40: 13 | E40: =IF('0.基礎情報'!C746=0,"―",'0.基礎情報'!C746) -> ― | J40: =IF(E40="―","―",IF(X40="未計測","未計測",IF(X40="未達成","未達成",IF(X40="達成",IF(AND(ISNUMBER(X41),X41>=1.4),"大幅に達成","達成"),"判定不能")))) -> ― | L40: 外部要因 | U40: =IF(J40="―","―",IF(J40="達成","―",IF(M40="","未回答",LEN(M40)&"字"))) -> ― | X40: =IF('0.基礎情報'!BE752="未計測",IF('0.基礎情報'!BF752="未計測",IF('0.基礎情報'!BG752="未計測","未計測",'0.基礎情報'!AX748),'0.基礎情報'!AX750),'0.基礎情報'!AX752)
L41: 内部要因 | U41: =IF(J40="―","―",IF(J40="達成","―",IF(M41="","未回答",LEN(M41)&"字"))) -> ― | X41: =IF('0.基礎情報'!BE752="未計測",IF('0.基礎情報'!BF752="未計測",IF('0.基礎情報'!BG752="未計測","未計測",'0.基礎情報'!BG752),'0.基礎情報'!BF752),'0.基礎情報'!BE752)
D42: 14 | E42: =IF('0.基礎情報'!C794=0,"―",'0.基礎情報'!C794) -> ― | J42: =IF(E42="―","―",IF(X42="未計測","未計測",IF(X42="未達成","未達成",IF(X42="達成",IF(AND(ISNUMBER(X43),X43>=1.4),"大幅に達成","達成"),"判定不能")))) -> ― | L42: 外部要因 | U42: =IF(J42="―","―",IF(J42="達成","―",IF(M42="","未回答",LEN(M42)&"字"))) -> ― | X42: =IF('0.基礎情報'!BE800="未計測",IF('0.基礎情報'!BF800="未計測",IF('0.基礎情報'!BG800="未計測","未計測",'0.基礎情報'!AX796),'0.基礎情報'!AX798),'0.基礎情報'!AX800)
L43: 内部要因 | U43: =IF(J42="―","―",IF(J42="達成","―",IF(M43="","未回答",LEN(M43)&"字"))) -> ― | X43: =IF('0.基礎情報'!BE800="未計測",IF('0.基礎情報'!BF800="未計測",IF('0.基礎情報'!BG800="未計測","未計測",'0.基礎情報'!BG800),'0.基礎情報'!BF800),'0.基礎情報'!BE800)
D44: 15 | E44: =IF('0.基礎情報'!C842=0,"―",'0.基礎情報'!C842) -> ― | J44: =IF(E44="―","―",IF(X44="未計測","未計測",IF(X44="未達成","未達成",IF(X44="達成",IF(AND(ISNUMBER(X45),X45>=1.4),"大幅に達成","達成"),"判定不能")))) -> ― | L44: 外部要因 | U44: =IF(J44="―","―",IF(J44="達成","―",IF(M44="","未回答",LEN(M44)&"字"))) -> ― | X44: =IF('0.基礎情報'!BE848="未計測",IF('0.基礎情報'!BF848="未計測",IF('0.基礎情報'!BG848="未計測","未計測",'0.基礎情報'!AX844),'0.基礎情報'!AX846),'0.基礎情報'!AX848)
L45: 内部要因 | U45: =IF(J44="―","―",IF(J44="達成","―",IF(M45="","未回答",LEN(M45)&"字"))) -> ― | X45: =IF('0.基礎情報'!BE848="未計測",IF('0.基礎情報'!BF848="未計測",IF('0.基礎情報'!BG848="未計測","未計測",'0.基礎情報'!BG848),'0.基礎情報'!BF848),'0.基礎情報'!BE848)
...

Sheet 【発出時非表示】プルダウンリスト
A1: シート名 | B1: 0.基礎情報 | F1: 2-1.サービス実装 | J1: 5.最終年度の振り返り
A2: セル番号 | B2: H12 | C2: X170 | D2: AB170 | E2: Z204 | F2: Q111 | G2: T111 | H2: Q112 | I2: T112 | J2: F61 | K2: F62 | L2: D73 | M2: D76 | N2: R83
A3: リスト名 | B3: 交付金予算年度 | C3: 種別 | D3: 性質 | E3: 計測見込み年 | F3: サービス実装予定年 | G3: サービス実装予定月 | H3: サービス実装年 | I3: サービス実装月 | J3: 達成実感（サービス利用者） | K3: 達成実感（サービス提供者） | L3: 庁内でのデジタル意識醸成への寄与度合 | M3: 地域への波及効果 | N3: 確認事項
A4: ① | B4: 令和4年度補正デジタル田園都市国家構想交付金(デジタル実装タイプTYPE1) | C4: アウトプット | D4: 増加KPI | E4: ='【発出時非表示】評価対象年度入力'!$B$2+1&"年4月" -> 2026年4月 | F4: ='【発出時非表示】評価対象年度入力'!$B$2 -> 2025 | G4: 1 | H4: ='【発出時非表示】評価対象年度入力'!$B$2 -> 2025 | I4: 1 | J4: 0～2割程度 | K4: 0～2割程度 | L4: 庁内でのデジタル意識醸成にとても寄与した | M4: 高い波及効果があった
A5: ② | B5: 令和5年度補正デジタル田園都市国家構想交付金(デジタル実装タイプTYPE1) | C5: アウトカム | D5: 減少KPI | E5: ='【発出時非表示】評価対象年度入力'!$B$2+1&"年5月" -> 2026年5月 | F5: ='【発出時非表示】評価対象年度入力'!$B$2+1 -> 2026 | G5: 2 | H5: ='【発出時非表示】評価対象年度入力'!$B$2+1 -> 2026 | I5: 2 | J5: 2～4割程度 | K5: 2～4割程度 | L5: 庁内でのデジタル意識醸成に寄与した | M5: 波及効果があった | N5: ✓
A6: ③ | B6: 令和6年度補正新しい地方経済・生活環境創生交付金(デジタル実装型TYPE1) | E6: ='【発出時非表示】評価対象年度入力'!$B$2+1&"年6月" -> 2026年6月 | G6: 3 | I6: 3 | J6: 4～6割程度 | K6: 4～6割程度 | L6: 庁内でのデジタル意識醸成にあまり寄与しなかった | M6: あまり波及効果がなかった
E7: ='【発出時非表示】評価対象年度入力'!$B$2+1&"年7月" -> 2026年7月 | G7: 4 | I7: 4 | J7: 6～8割程度 | K7: 6～8割程度 | L7: 庁内でのデジタル意識醸成にまったく寄与しなかった | M7: 全く波及効果がなかった
E8: ='【発出時非表示】評価対象年度入力'!$B$2+1&"年8月" -> 2026年8月 | G8: 5 | I8: 5 | J8: 8～10割程度 | K8: 8～10割程度
E9: ='【発出時非表示】評価対象年度入力'!$B$2+1&"年9月" -> 2026年9月 | G9: 6 | I9: 6
E10: ='【発出時非表示】評価対象年度入力'!$B$2+1&"年10月" -> 2026年10月 | G10: 7 | I10: 7
E11: ='【発出時非表示】評価対象年度入力'!$B$2+1&"年11月" -> 2026年11月 | G11: 8 | I11: 8
E12: ='【発出時非表示】評価対象年度入力'!$B$2+1&"年12月" -> 2026年12月 | G12: 9 | I12: 9
E13: ='【発出時非表示】評価対象年度入力'!$B$2+2&"年1月" -> 2027年1月 | G13: 10 | I13: 10
E14: ='【発出時非表示】評価対象年度入力'!$B$2+2&"年2月" -> 2027年2月 | G14: 11 | I14: 11
E15: ='【発出時非表示】評価対象年度入力'!$B$2+2&"年3月" -> 2027年3月 | G15: 12 | I15: 12

Sheet 【発出時非表示】評価対象年度入力
A1: 【要入力】
A2: 評価対象年度： | B2: 2025

Sheet 【発出時非表示】交付金予算年度別の文章
A1: シート名 | B1: 1.推進体制 | C1: 1.推進体制 | D1: 3.周知・広報 | E1: 3.周知・広報 | F1: 4.評価・改善 | G1: 4.評価・改善 | H1: 5.最終年度の振り返り
A2: セル番号 | B2: E63 | C2: E89 | D2: E47 | E2: E71 | F2: E36 | G2: E61 | H2: D82
A3: 交付金予算年度未入力時の表示文章 | B3: 「0.基礎情報」のシートで交付金予算年度を選択してから、ご回答をお願いいたします。交付金予算年度をご選択いただくと、例文が表示されます。 | C3: 「0.基礎情報」のシートで交付金予算年度を選択してから、ご回答をお願いいたします。交付金予算年度をご選択いただくと、例文が表示されます。 | D3: 「0.基礎情報」のシートで交付金予算年度を選択してから、ご回答をお願いいたします。交付金予算年度をご選択いただくと、例文が表示されます。 | E3: 「0.基礎情報」のシートで交付金予算年度を選択してから、ご回答をお願いいたします。交付金予算年度をご選択いただくと、例文が表示されます。 | F3: 「0.基礎情報」のシートで交付金予算年度を選択してから、ご回答をお願いいたします。交付金予算年度をご選択いただくと、例文が表示されます。 | G3: 「0.基礎情報」のシートで交付金予算年度を選択してから、ご回答をお願いいたします。交付金予算年度をご選択いただくと、例文が表示されます。 | H3: 「0.基礎情報」のシートで交付金予算年度を選択してから、ご回答をお願いいたします。交付金予算年度をご選択いただくと、確認事項が表示されます。
A4: 交付金予算年度①入力時の表示文章 | B4: 昨年度は不定期で会議を開催していたが、今年度は月一回の定例会にて情報共有を行うことにより、財務調整やＰＲ時の広報担当課との調整を円滑に行うことができた。また、昨年度は地域のステークホルダーを十分に巻き込むことができなかったが、今年度は商工会や観光協会等に対して働きかけを行ったことで、サービス体験会を共同で開催することができ、地域へのサービスの理解浸透に寄与することができた。 | C4: ="庁内の体制においては、担当原課のリーダーの稼働不足を補うために、"&'【発出時非表示】評価対象年度入力'!$B$2+1&"年度内に専任担当者を一名増員するとともに、"&'【発出時非表示】評価対象年度入力'!$B$2+1&"年の6月までに事業担当課が中心となって、あいまいになっていた各担当原課及び事業者、地域のステークホルダーとの役割分担を再定義して合意することで、プロジェクトのリカバリーをしっかりと行う体制づくりを行っていく。庁内に止まらず、関連するメンバーが集まる全体会議にて、サービスの推進及び改善等を議論する場を四半期に1回以上設けることで、進捗共有やプロジェクトの更なる推進を強化していく。" -> 庁内の体制においては、担当原課のリーダーの稼働不足を補うために、2026年度内に専任担当者を一名増員するとともに、2026年の6月までに事業担当課が中心となって、あいまいになっていた各担当原課及び事業者、地域のステークホルダーとの役割分担を再定義して合意することで、プロジェクトのリカバリーをしっかりと行う体制づくりを行っていく。庁内に止まらず、関連するメンバーが集まる全体会議にて、サービスの推進及び改善等を議論する場を四半期に1回以上設けることで、進捗共有やプロジェクトの更なる推進を強化していく。 | D4: 昨年度実装計画期間における周知広報の効果について分析したところ、チラシの全戸配布が最も効果的であった。また、アンケート結果を集計したところ、市のホームページにアップしている「利用イメージの動画」や「利用の始め方動画」が分かりやすいと好評だった。このことから、予算を用いて、チラシの追加作成をした。それに加え、今年度は利用者の声（使ってみたら便利になった！等）も合わせて本市の公式YouTubeにて発信することで、具体的なメリットを訴求し更なる利用者の増加を図ることができた。 | E4: ="実装計画期間から引き続き同じ媒体での周知広報を行っており、住民に対して効果的な情報発信方法は何か、検討できていなかった。そこで、本市の公式LINEでの定期的な発信や地元新聞やケーブルテレビ等でのタイアップ等しっかりと地域に浸透を図るよう、本市の広報担当課とも連携を密に行い展開していく。なお、本市の広報関連予算を活用し、"&'【発出時非表示】評価対象年度入力'!$B$2+1&"年4～7月の間にサービスのPRイベントや折り込みチラシ等を実施し、まずはサービスを知ってもらうよう促していく。同時期に、推進体制に参画している商工会にも働きかけ、市内の各店舗でサービスの利用状況動画の放映やチラシの配布に協力してもらい、サービスの知名度の底上げを行っていく。そして、"&'【発出時非表示】評価対象年度入力'!$B$2+1&"年8月頃に改めて利用者層別の認知度について調査を行い、10月以降の広報方法について担当原課、広報担当課、事業取りまとめ課の3者で再検討を行う。" -> 実装計画期間から引き続き同じ媒体での周知広報を行っており、住民に対して効果的な情報発信方法は何か、検討できていなかった。そこで、本市の公式LINEでの定期的な発信や地元新聞やケーブルテレビ等でのタイアップ等しっかりと地域に浸透を図るよう、本市の広報担当課とも連携を密に行い展開していく。なお、本市の広報関連予算を活用し、2026年4～7月の間にサービスのPRイベントや折り込みチラシ等を実施し、まずはサービスを知ってもらうよう促していく。同時期に、推進体制に参画している商工会にも働きかけ、市内の各店舗でサービスの利用状況動画の放映やチラシの配布に協力してもらい、サービスの知名度の底上げを行っていく。そして、2026年8月頃に改めて利用者層別の認知度について調査を行い、10月以降の広報方法について担当原課、広報担当課、事業取りまとめ課の3者で再検討を行う。 | F4: 昨年度は、庁内関係者のみで評価会議を実施していたが、今年度は事業への客観的な評価と改善に向けた意見を聴取するため、大学教授や外部企業が参画する「外部評価委員会」を設置した。 住民モニターからのモニタリング報告を受けるとともに、本市のホームページにサービスの改善意見を募集することで、利用者の要望を即座にサービスに反映させる仕組みを設けることでPDCAサイクルを迅速に回すことができた。 | G4: ="評価にあたり、利用者と関係の深い地域のステークホルダーの意見や満足度については把握していたものの、利用者アンケートの回答率が低く、利用者の満足度や要望は十分に把握できておらず、改善に向けた材料が不足していた。今後は利用者からより多くの情報を収集する取組として、サービス利用者にその場でアンケートに回答してもらったり、回答者にクーポンを発行したり、一部利用者にヒアリングに協力してもらったりするなど、複数の取組を"&'【発出時非表示】評価対象年度入力'!$B$2+1&"年9月までに実施したうえで、有効だった取組については継続して定期的に行うようにする。同時に、データに基づいたデジタルに知見のある外部の人材からアドバイスコメントをもらうことや四半期に1回の事業評価や効果検証を外部有識者を交えて実施することで、利用者とは別の客観的視点でサービスへの意見を収集し、より効果的に改善活動を実施していく。" -> 評価にあたり、利用者と関係の深い地域のステークホルダーの意見や満足度については把握していたものの、利用者アンケートの回答率が低く、利用者の満足度や要望は十分に把握できておらず、改善に向けた材料が不足していた。今後は利用者からより多くの情報を収集する取組として、サービス利用者にその場でアンケートに回答してもらったり、回答者にクーポンを発行したり、一部利用者にヒアリングに協力してもらったりするなど、複数の取組を2026年9月までに実施したうえで、有効だった取組については継続して定期的に行うようにする。同時に、データに基づいたデジタルに知見のある外部の人材からアドバイスコメントをもらうことや四半期に1回の事業評価や効果検証を外部有識者を交えて実施することで、利用者とは別の客観的視点でサービスへの意見を収集し、より効果的に改善活動を実施していく。 | H4: 令和４年度第２次補正「デジタル田園都市国家構想交付金（デジタル実装タイプ）」の交付対象事業については、令和８年（2026年）３月31日をもって、交付申請時に策定した実施計画に記載された３か年計画（実装計画期間１年、運営計画期間２年）の期間満了となりますが、令和４年２月25日発出（令和５年１月25日一部改正）府地創第63号「デジタル田園都市国家構想交付金（デジタル実装タイプ）交付要綱」は、引き続き適用されます。 特に同交付要綱の第22条（間接交付金交付の際付す条件）及び第23条（交付の条件）に鑑み、万が一、デジタル田園都市国家構想交付金（デジタル実装タイプ）の交付対象事業より取得し、又は効用を増加させた財産のうち、取得価格又は効用の増加価格が 50 万円以上のものについて、交付金の交付の目的に反して使用し、譲渡し、交換し、貸し付け、担保に供し、又は廃棄しようとするときは、あらかじめ承認申請書を大臣に提出し、その承認を受けなければならないものです。その際は、十分な時間的余裕をもってに申請書をご提出ください（提出前に事務局までご相談ください。）。
